Workbook

Sheet 入力シート
C2: ★入力シート（施設整備・交付申請書作成用）
C3: 【セルの色内訳】
C4: 水色セル：要入力部分 | D4: 黄色セル：自動入力部分 | G4: 赤色セル：要確認部分
C6: 【作成手順】 ① このシートの水色セル部分を入力 ② 「様式第１-１号」「様式第１-１号別紙」のシートを開き、水色セル部分を入力 ③ その他のシートを全て確認し、黄色セルに数値が反映されているか確認 ④ このシートの赤色セルの金額と、「交付申請書」シートの赤色セルの金額が一致するか確認
B8: (１)申請者情報 ※ここに記載した内容は、交付申請書の表紙にそのまま反映されます。
C9: 申請日 | D9: 令和 年 月 日
C10: 住所
C11: 申請者名称
C12: 代表者役職
C13: 代表者氏名
B16: （２）協定締結医療機関施設整備事業 | L16: （単位：円）
C17: 費目 | D17: 補助率 | E17: 室数 | F17: 面積（㎡） | G17: 総事業費 | H17: 対象経費支出予定額（合計） | I17: 寄付金その他の収入額 | J17: 基準額 （補助額上限） | K17: 選定額 （各対象経費と基準額を比べて少ない方） | L17: 補助所要額 選定額×補助率 ※千円未満切捨て
C18: 病室の感染対策に係る整備 | D18: 2/3 | J18: =E18*38109000 -> 0 | K18: =MIN(H18,J18) -> 0 | L18: =ROUNDDOWN(K18*2/3,-3) -> 0
C19: 病棟等の感染対策に係る整備 | D19: 10/10 | J19: =F19*558000 -> 0 | K19: =MIN(H19,J19) -> 0 | L19: =ROUNDDOWN(K19,-3) -> 0
C20: 個人防護具保管施設の整備 | D20: 10/10 | J20: =F20*558000 -> 0 | K20: =MIN(H20,J20) -> 0 | L20: =ROUNDDOWN(K20,-3) -> 0
K21: =SUM(K18:K20) -> 0 | L21: =SUM(L18:L20) -> 0
K22: 算定基準額 | L22: 交付申請額

Sheet 交付申請書
B5: 様式第１号（第５条関係）
K7: =入力シート!D9 -> 令和 年 月 日
B9: 鳥取県知事 平井 伸治 様
G12: 住 所 | H12: =入力シート!D10 -> 0
F14: 申請者 | G14: 氏 名 | H14: =入力シート!D11 -> 0
H15: =入力シート!D12 -> 0 | J15: =入力シート!D13 -> 0
G16: （団体にあっては、名称及び代表者の氏名）
A18: 令和８年度鳥取県新興感染症対応力強化事業補助金交付申請書
B20: 鳥取県新興感染症対応力強化事業補助金の交付を受けたいので、鳥取県補助金等交
B21: 付規則第５条の規定により、下記のとおり交付申請します。
B23: 記
B25: 補助事業等の名称 | E25: 鳥取県新興感染症対応力強化事業補助金
B26: 算 定 基 準 額 | E26: 金 | F26: ='様式第1-1号'!H12 -> 0 | I26: 円
B27: 交 付 申 請 額 | E27: 金 | F27: ='様式第1-1号'!I12 -> 0 | I27: 円
B28: 添 付 書 類 | E28: 鳥取県新興感染症対応力強化事業補助金事業計画書

Sheet 様式第1-1号
A1: 様式第１－１号（第５条関係）
B3: 鳥取県新興感染症対応力強化事業補助金実施計画書 | N3: 補足説明
I5: （施設名） | N5: ←施設名を入力してください。
L6: （単位：円）
B7: 区分 | C7: 総事業費 | D7: 寄付金その他の収入額 | E7: 差引額 （（Ａ）－（Ｂ）） | F7: 補助対象 経費支出 予定額 | G7: 基準額 | H7: 選定額 | I7: 補助所要額 | J7: 受入済額 | K7: 差引過不足額 （Ｇ）-（Ｈ） | L7: 備考
C8: （Ａ） | D8: （Ｂ） | E8: （Ｃ） | F8: （Ｄ） | G8: （Ｅ） | H8: （Ｆ） | I8: （Ｇ） | J8: （Ｈ） | K8: (I)
B9: 協定締結医療機関 施設整備事業 | C9: 円 | D9: 円 | E9: 円 | F9: 円 | G9: 円 | H9: 円 | I9: 円 | J9: 円 | K9: 円
C10: =SUM(入力シート!G18:G20) -> 0 | D10: =SUM(入力シート!I18:I20) -> 0 | E10: =C10-D10 -> 0 | F10: ='様式第1-1号別紙'!H14 -> 0 | G10: ='様式第1-1号別紙'!E14 -> 0 | H10: ='様式第1-1号別紙'!I14 -> 0 | I10: ='様式第1-1号別紙'!$J$14 -> 0 | J10: 0 | K10: =I10-J10 -> 0 | L10: 内訳は別紙のとおり
B11: 協定締結医療機関 設備整備事業
B12: 合 計 | C12: =SUM(C10:C11) -> 0 | D12: =SUM(D10:D11) -> 0 | E12: =SUM(E10:E11) -> 0 | F12: =SUM(F10:F11) -> 0 | G12: =SUM(G10:G11) -> 0 | H12: =SUM(H10:H11) -> 0 | I12: =SUM(I10:I11) -> 0 | J12: =SUM(J10:J11) -> 0 | K12: =SUM(K10:K11) -> 0
B14: ※本事業計画書には、別紙に定める個別の事業計画書を添付すること。
B15: （注１）Ａ欄には、対象経費以外も含めた総事業費を記入すること。
B16: （注２）Ｂ欄には、鳥取県新興感染症対応力強化事業補助金以外の収入がある場合にその金額を記入すること。
B17: （注３）Ⅾ欄には、Ａ欄のうち対象経費に係る支出予定額を記入することとし、個別の事業計画書の金額（イ）欄の計と一致させること。
B18: （注４）Ｆ欄には、個別の事業計画書の選定額の計を記入すること。
B19: （注５）Ｇ欄には、個別の事業計画書の補助所要額の計を記入すること。
B21: 【他の補助金の活用の有無について】 | N21: 【他の補助金の活用の有無について】 他の補助金を併用しない場合、表①～④の入力は不要です。
B22: 「有」、「無」のいずれかに○をし、「有」の場合は、下欄についても記入すること。
B23: 【 有 ・ 無 】
B25: ①活用する補助金名
B26: ②事業内容
B27: ③当該補助金の所管部署（団体）名
B28: ④所管部署（団体）連絡先 | D28: （ ） －
B30: 【消費税の取り扱い等】
B31: 次の（１）（２）について、当てはまるものに○をすること。 | N31: 【消費税の取り扱い等】 セルを選択し、当てはまるものの（ ）内に○を入力してください。 （２）は、事業実施時期の決算期における消費税の取り扱いを指します。現時点で不明な場合は「仕入控除税額が明らかでない一般課税事業者」を選択してください。
B32: （１） 申請額について
B33: 消費税及び地方消費税を | D33: （ ）含む | E33: （ ） 含まない
B35: （２）消費税の取り扱い
B36: （ ）一般課税事業者 （ ）簡易課税事業者 （ ）免税事業者 （ ）地方公共団体 （ ）特定収入割合が５％を超えている公益法人等 （ ）仕入控除税額が明らかでない一般課税事業者

Sheet 様式第1-1号別紙
A2: 様式第１－１号・第１－２号 別紙（第５条、第８条関係）
B4: 施設整備事業計画（実績報告）書
H6: （施設名）
A7: （１）協定締結医療機関施設整備事業 | J7: （単位：円）
B8: 費 目 | C8: 基 準 額 (E) | F8: 対象経費支出予定（実支出）額(D) | I8: 選定額（F） （ア）か（イ）のいずれか低い額 | J8: 補助所要額（G） 選定額×補助率 （千円未満切捨て）
C9: 室数 又は 面積 | D9: 単 価 | E9: 金 額 （ア） | F9: 室数 又は 面積 | G9: 単 価 | H9: 金 額 （イ）
B10: 病室の感染対策に 係る整備 | D10: 円 | E10: 円 | G10: 円 | H10: 円 | I10: 円 | J10: 円
C11: =入力シート!E18 -> 0 | D11: 38,109,000 （１室当たり） | E11: =C11*38109000 -> 0 | F11: =入力シート!E18 -> 0 | G11: =IF(H11>0,H11/F11,0) -> 0 | H11: =入力シート!H18 -> 0 | I11: =MIN(E11,H11) -> 0 | J11: =ROUNDDOWN(I11*2/3,-3) -> 0
B12: 病棟等の感染対策に係る整備 | C12: =入力シート!F19 -> 0 | D12: 558,000 （１㎡当たり） | E12: =C12*558000 -> 0 | F12: =入力シート!F19 -> 0 | G12: =IF(H12>0,H12/F12,0) -> 0 | H12: =入力シート!H19 -> 0 | I12: =MIN(E12,H12) -> 0 | J12: =ROUNDDOWN(I12,-3) -> 0
B13: 個人防護具保管施設の整備 | C13: =入力シート!F20 -> 0 | D13: 558,000 （１㎡当たり） | E13: =C13*558000 -> 0 | F13: =入力シート!F20 -> 0 | G13: =IF(H13>0,H13/F13,0) -> 0 | H13: =入力シート!H20 -> 0 | I13: =MIN(E13,H13) -> 0 | J13: =ROUNDDOWN(I13,-3) -> 0
B14: 合 計 | C14: - | D14: - | E14: =SUM(E11:E13) -> 0 | F14: - | G14: - | H14: =SUM(H11:H13) -> 0 | I14: =SUM(I11:I13) -> 0 | J14: =SUM(J11:J13) -> 0
B16: ※Ｄ欄～Ｇ欄の合計額は、様式第１－１号・第１－２号の各欄における金額と一致させること。

Sheet 収支予算書
B1: 様式第２号（第５条、第８条関係）
C3: 鳥取県新興感染症対応力強化事業収支予算（決算）書
B5: １ 収入の部 | G5: （単位：円）
C6: 区 分 | D6: 予算額 （交付決定額） | E6: 決算額 | F6: 差引増減 | G6: 備考
C7: 県補助金 | D7: ='様式第1-1号別紙'!J14 -> 0
C8: 自己財源 | D8: ='様式第1-1号別紙'!H14-'様式第1-1号別紙'!J14 -> 0
C9: その他
C10: 合 計 | D10: =SUM(D7:D9) -> 0 | I10: ←（D）対象経費支出予定額と一致
C11: ※ 決算時（実績報告時）の予算額欄は交付決定額を記載すること。
C12: ※ その他に金額を記載する場合、備考欄にその内容を記載すること。
B14: ２ 支出の部 | G14: （単位：円）
C15: 区分 | D15: 予算額 （交付決定額） | E15: 決算額 | F15: 差引増減 | G15: 備考
C16: 病室の感染対策に係る整備 | D16: ='様式第1-1号別紙'!$H$11 -> 0
C17: 病棟等の感染対策に係る整備 | D17: ='様式第1-1号別紙'!$H$12 -> 0
C18: 個人防護具保管施設の整備 | D18: ='様式第1-1号別紙'!$H$13 -> 0
C21: その他
C22: 合 計 | D22: =SUM(D16:D21) -> 0 | I22: ←（D）対象経費支出予定額と一致
C23: ※ 決算時（実績報告時）の予算額欄は交付決定額を記載すること。
C24: ※ その他に金額を記載する場合、備考欄にその内容を記載すること。
