Workbook

Sheet 月別使用量
B1: 別紙４ 電気使用実績
B3: 施設名 | C3: 境港水産物地方卸売市場
B4: 契約電力 | C4: ３９８ｋＷ（令和８年３月現在）
B6: 使用月 | C6: 月別電力使用量 | D6: 最大需要電力(30分値)
C7: (kWh/月) | D7: （kW）
B8: 令和７年１月 | C8: ='202502'!B59 -> 126031 | D8: ='202502'!B60 -> 171
B9: 令和７年２月 | C9: ='202503'!B59 -> 122280 | D9: ='202503'!B60 -> 173
B10: 令和７年３月 | C10: ='202503'!B59 -> 122280 | D10: ='202504'!B60 -> 156
B11: 令和７年４月 | C11: ='202505'!B59 -> 109985 | D11: ='202505'!B60 -> 141
B12: 令和７年５月 | C12: ='202506'!B59 -> 109726 | D12: ='202506'!B60 -> 146
B13: 令和７年６月 | C13: ='202507'!B59 -> 116602 | D13: ='202507'!B60 -> 189
B14: 令和７年７月 | C14: ='202508'!B59 -> 154905 | D14: ='202508'!B60 -> 189
B15: 令和７年８月 | C15: ='202509'!B59 -> 152225 | D15: ='202509'!B60 -> 199
B16: 令和７年９月 | C16: ='202510'!B59 -> 160440 | D16: ='202510'!B60 -> 185
B17: 令和７年10月 | C17: ='202511'!B59 -> 126257 | D17: ='202511'!B60 -> 151
B18: 令和７年11月 | C18: ='202512'!B59 -> 133318 | D18: ='202512'!B60 -> 168
B19: 令和７年12月 | C19: ='202601'!B59 -> 126583 | D19: ='202601'!B60 -> 156
B20: 合 計 | C20: =SUM(C8:C19) -> 1560632
B21: 注）最大需要電力は各月における30分値の最大値。

Sheet 202502
A2: お 客 さ ま 名 | B2: 鳥取県境港水産事務所（陸送・１号上屋）
A3: ご 契 約 番 号 | B3: 2110-11135736-1
A4: 供給地点特定番号 | B4: 07-1211-1357-3610-1000-0000
A5: 実 績 年 月 | B5: 45689
B8: 01月01日(水) | C8: 01月02日(木) | D8: 01月03日(金) | E8: 01月04日(土) | F8: 01月05日(日) | G8: 01月06日(月) | H8: 01月07日(火) | I8: 01月08日(水) | J8: 01月09日(木) | K8: 01月10日(金) | L8: 01月11日(土) | M8: 01月12日(日) | N8: 01月13日(月) | O8: 01月14日(火) | P8: 01月15日(水) | Q8: 01月16日(木) | R8: 01月17日(金) | S8: 01月18日(土) | T8: 01月19日(日) | U8: 01月20日(月) | V8: 01月21日(火) | W8: 01月22日(水) | X8: 01月23日(木) | Y8: 01月24日(金) | Z8: 01月25日(土) | AA8: 01月26日(日) | AB8: 01月27日(月) | AC8: 01月28日(火) | AD8: 01月29日(水) | AE8: 01月30日(木) | AF8: 01月31日(金)
A9: 00:00～00:30 | B9: 50 | C9: 50 | D9: 48 | E9: 48 | F9: 60 | G9: 67 | H9: 65 | I9: 67 | J9: 60 | K9: 60 | L9: 56 | M9: 55 | N9: 86 | O9: 65 | P9: 89 | Q9: 98 | R9: 75 | S9: 65 | T9: 48 | U9: 96 | V9: 74 | W9: 67 | X9: 91 | Y9: 77 | Z9: 93 | AA9: 55 | AB9: 56 | AC9: 91 | AD9: 104 | AE9: 77 | AF9: 50
A10: 00:30～01:00 | B10: 51 | C10: 55 | D10: 48 | E10: 48 | F10: 52 | G10: 82 | H10: 58 | I10: 65 | J10: 62 | K10: 53 | L10: 60 | M10: 53 | N10: 89 | O10: 65 | P10: 93 | Q10: 94 | R10: 74 | S10: 65 | T10: 46 | U10: 104 | V10: 77 | W10: 79 | X10: 93 | Y10: 77 | Z10: 94 | AA10: 55 | AB10: 55 | AC10: 103 | AD10: 100 | AE10: 79 | AF10: 53
A11: 01:00～01:30 | B11: 48 | C11: 51 | D11: 48 | E11: 48 | F11: 51 | G11: 79 | H11: 60 | I11: 63 | J11: 58 | K11: 58 | L11: 57 | M11: 60 | N11: 96 | O11: 65 | P11: 99 | Q11: 96 | R11: 77 | S11: 67 | T11: 48 | U11: 103 | V11: 75 | W11: 89 | X11: 92 | Y11: 84 | Z11: 91 | AA11: 58 | AB11: 67 | AC11: 108 | AD11: 104 | AE11: 79 | AF11: 53
A12: 01:30～02:00 | B12: 50 | C12: 50 | D12: 48 | E12: 48 | F12: 53 | G12: 82 | H12: 60 | I12: 62 | J12: 60 | K12: 55 | L12: 58 | M12: 57 | N12: 103 | O12: 67 | P12: 96 | Q12: 98 | R12: 81 | S12: 67 | T12: 48 | U12: 108 | V12: 81 | W12: 91 | X12: 88 | Y12: 94 | Z12: 91 | AA12: 60 | AB12: 79 | AC12: 108 | AD12: 103 | AE12: 84 | AF12: 53
A13: 02:00～02:30 | B13: 51 | C13: 48 | D13: 48 | E13: 50 | F13: 50 | G13: 76 | H13: 62 | I13: 62 | J13: 62 | K13: 55 | L13: 57 | M13: 53 | N13: 103 | O13: 69 | P13: 91 | Q13: 98 | R13: 89 | S13: 87 | T13: 48 | U13: 108 | V13: 91 | W13: 96 | X13: 94 | Y13: 91 | Z13: 92 | AA13: 53 | AB13: 89 | AC13: 98 | AD13: 103 | AE13: 82 | AF13: 55
A14: 02:30～03:00 | B14: 48 | C14: 48 | D14: 45 | E14: 51 | F14: 53 | G14: 82 | H14: 70 | I14: 63 | J14: 68 | K14: 53 | L14: 58 | M14: 53 | N14: 96 | O14: 70 | P14: 98 | Q14: 96 | R14: 89 | S14: 86 | T14: 45 | U14: 108 | V14: 92 | W14: 91 | X14: 89 | Y14: 96 | Z14: 91 | AA14: 55 | AB14: 89 | AC14: 96 | AD14: 106 | AE14: 81 | AF14: 55
A15: 03:00～03:30 | B15: 45 | C15: 50 | D15: 48 | E15: 50 | F15: 69 | G15: 82 | H15: 84 | I15: 77 | J15: 84 | K15: 55 | L15: 74 | M15: 53 | N15: 91 | O15: 79 | P15: 101 | Q15: 96 | R15: 96 | S15: 96 | T15: 46 | U15: 105 | V15: 88 | W15: 92 | X15: 91 | Y15: 96 | Z15: 96 | AA15: 53 | AB15: 89 | AC15: 99 | AD15: 103 | AE15: 84 | AF15: 55
A16: 03:30～04:00 | B16: 48 | C16: 51 | D16: 48 | E16: 48 | F16: 104 | G16: 86 | H16: 91 | I16: 98 | J16: 98 | K16: 70 | L16: 99 | M16: 55 | N16: 99 | O16: 82 | P16: 101 | Q16: 104 | R16: 103 | S16: 106 | T16: 43 | U16: 108 | V16: 96 | W16: 103 | X16: 106 | Y16: 96 | Z16: 93 | AA16: 52 | AB16: 91 | AC16: 101 | AD16: 108 | AE16: 82 | AF16: 68
A17: 04:00～04:30 | B17: 46 | C17: 53 | D17: 51 | E17: 50 | F17: 120 | G17: 91 | H17: 103 | I17: 98 | J17: 108 | K17: 89 | L17: 125 | M17: 55 | N17: 113 | O17: 96 | P17: 110 | Q17: 110 | R17: 108 | S17: 132 | T17: 46 | U17: 113 | V17: 106 | W17: 129 | X17: 112 | Y17: 110 | Z17: 113 | AA17: 56 | AB17: 103 | AC17: 112 | AD17: 120 | AE17: 101 | AF17: 100
A18: 04:30～05:00 | B18: 50 | C18: 52 | D18: 53 | E18: 51 | F18: 141 | G18: 101 | H18: 120 | I18: 116 | J18: 125 | K18: 93 | L18: 141 | M18: 55 | N18: 120 | O18: 108 | P18: 113 | Q18: 113 | R18: 111 | S18: 149 | T18: 45 | U18: 123 | V18: 120 | W18: 144 | X18: 118 | Y18: 115 | Z18: 115 | AA18: 60 | AB18: 113 | AC18: 113 | AD18: 120 | AE18: 110 | AF18: 132
A19: 05:00～05:30 | B19: 51 | C19: 56 | D19: 55 | E19: 53 | F19: 132 | G19: 118 | H19: 142 | I19: 122 | J19: 149 | K19: 103 | L19: 156 | M19: 58 | N19: 144 | O19: 115 | P19: 127 | Q19: 122 | R19: 120 | S19: 158 | T19: 48 | U19: 127 | V19: 125 | W19: 154 | X19: 127 | Y19: 123 | Z19: 123 | AA19: 60 | AB19: 127 | AC19: 123 | AD19: 129 | AE19: 120 | AF19: 140
A20: 05:30～06:00 | B20: 45 | C20: 50 | D20: 50 | E20: 50 | F20: 137 | G20: 112 | H20: 132 | I20: 115 | J20: 148 | K20: 101 | L20: 149 | M20: 55 | N20: 136 | O20: 106 | P20: 120 | Q20: 120 | R20: 120 | S20: 146 | T20: 48 | U20: 125 | V20: 115 | W20: 146 | X20: 120 | Y20: 117 | Z20: 113 | AA20: 52 | AB20: 118 | AC20: 132 | AD20: 125 | AE20: 115 | AF20: 134
... A56: 23:30～00:00 | B56: 53 | C56: 46 | D56: 51 | E56: 56 | F56: 65 | G56: 60 | H56: 62 | I56: 55 | J56: 57 | K56: 60 | L56: 53 | M56: 87 | N56: 60 | O56: 77 | P56: 96 | Q56: 77 | R56: 67 | S56: 48 | T56: 91 | U56: 72 | V56: 63 | W56: 77 | X56: 79 | Y56: 94 | Z56: 53 | AA56: 55 | AB56: 72 | AC56: 98 | AD56: 77 | AE56: 53 | AF56: 74
A58: 日 計 | B58: =SUM(B9:B56) -> 2374 | C58: =SUM(C9:C56) -> 2383 | D58: =SUM(D9:D56) -> 2388 | E58: =SUM(E9:E56) -> 2501 | F58: =SUM(F9:F56) -> 4214 | G58: =SUM(G9:G56) -> 4483 | H58: =SUM(H9:H56) -> 4284 | I58: =SUM(I9:I56) -> 4133 | ... AF58: =SUM(AF9:AF56) -> 3871
A59: 月 計 | B59: =SUM(B58:AF58) -> 126031
A60: 最大値 | B60: =MAX(B9:AF56) -> 171

Sheet 202503
A2: お 客 さ ま 名 | B2: 鳥取県境港水産事務所（陸送・１号上屋）
A3: ご 契 約 番 号 | B3: 2110-11135736-1
A4: 供給地点特定番号 | B4: 07-1211-1357-3610-1000-0000
A5: 実 績 年 月 | B5: 45717
B8: 02月01日(土) | C8: 02月02日(日) | D8: 02月03日(月) | E8: 02月04日(火) | F8: 02月05日(水) | G8: 02月06日(木) | H8: 02月07日(金) | I8: 02月08日(土) | J8: 02月09日(日) | K8: 02月10日(月) | L8: 02月11日(火) | M8: 02月12日(水) | N8: 02月13日(木) | O8: 02月14日(金) | P8: 02月15日(土) | Q8: 02月16日(日) | R8: 02月17日(月) | S8: 02月18日(火) | T8: 02月19日(水) | U8: 02月20日(木) | V8: 02月21日(金) | W8: 02月22日(土) | X8: 02月23日(日) | Y8: 02月24日(月) | Z8: 02月25日(火) | AA8: 02月26日(水) | AB8: 02月27日(木) | AC8: 02月28日(金)
A9: 00:00～00:30 | B9: 72 | C9: 55 | D9: 88 | E9: 96 | F9: 65 | G9: 60 | H9: 55 | I9: 64 | J9: 55 | K9: 79 | L9: 99 | M9: 60 | N9: 89 | O9: 94 | P9: 74 | Q9: 58 | R9: 98 | S9: 65 | T9: 70 | U9: 62 | V9: 101 | W9: 77 | X9: 51 | Y9: 52 | Z9: 96 | AA9: 60 | AB9: 50 | AC9: 96
A10: 00:30～01:00 | B10: 74 | C10: 70 | D10: 104 | E10: 94 | F10: 62 | G10: 55 | H10: 56 | I10: 63 | J10: 53 | K10: 77 | L10: 103 | M10: 60 | N10: 91 | O10: 91 | P10: 72 | Q10: 60 | R10: 99 | S10: 67 | T10: 74 | U10: 60 | V10: 98 | W10: 79 | X10: 55 | Y10: 51 | Z10: 98 | AA10: 60 | AB10: 48 | AC10: 96
A11: 01:00～01:30 | B11: 75 | C11: 74 | D11: 103 | E11: 93 | F11: 63 | G11: 63 | H11: 55 | I11: 60 | J11: 58 | K11: 79 | L11: 105 | M11: 65 | N11: 98 | O11: 89 | P11: 72 | Q11: 57 | R11: 100 | S11: 70 | T11: 72 | U11: 60 | V11: 99 | W11: 84 | X11: 55 | Y11: 65 | Z11: 94 | AA11: 70 | AB11: 55 | AC11: 96
A12: 01:30～02:00 | B12: 77 | C12: 75 | D12: 101 | E12: 94 | F12: 64 | G12: 62 | H12: 60 | I12: 65 | J12: 60 | K12: 80 | L12: 101 | M12: 62 | N12: 101 | O12: 91 | P12: 72 | Q12: 60 | R12: 89 | S12: 69 | T12: 75 | U12: 77 | V12: 103 | W12: 87 | X12: 51 | Y12: 69 | Z12: 96 | AA12: 74 | AB12: 68 | AC12: 98
A13: 02:00～02:30 | B13: 69 | C13: 74 | D13: 93 | E13: 96 | F13: 63 | G13: 60 | H13: 55 | I13: 62 | J13: 60 | K13: 81 | L13: 103 | M13: 63 | N13: 94 | O13: 86 | P13: 77 | Q13: 60 | R13: 91 | S13: 67 | T13: 77 | U13: 74 | V13: 101 | W13: 86 | X13: 50 | Y13: 72 | Z13: 98 | AA13: 75 | AB13: 74 | AC13: 99
A14: 02:30～03:00 | B14: 77 | C14: 70 | D14: 96 | E14: 94 | F14: 65 | G14: 60 | H14: 55 | I14: 62 | J14: 55 | K14: 84 | L14: 104 | M14: 57 | N14: 91 | O14: 96 | P14: 74 | Q14: 53 | R14: 94 | S14: 70 | T14: 74 | U14: 77 | V14: 108 | W14: 86 | X14: 48 | Y14: 87 | Z14: 96 | AA14: 84 | AB14: 79 | AC14: 101
A15: 03:00～03:30 | B15: 84 | C15: 62 | D15: 99 | E15: 98 | F15: 62 | G15: 58 | H15: 63 | I15: 65 | J15: 55 | K15: 91 | L15: 100 | M15: 65 | N15: 98 | O15: 99 | P15: 75 | Q15: 50 | R15: 94 | S15: 72 | T15: 82 | U15: 82 | V15: 110 | W15: 104 | X15: 50 | Y15: 91 | Z15: 98 | AA15: 84 | AB15: 87 | AC15: 103
A16: 03:30～04:00 | B16: 86 | C16: 62 | D16: 103 | E16: 108 | F16: 65 | G16: 67 | H16: 69 | I16: 67 | J16: 53 | K16: 94 | L16: 108 | M16: 72 | N16: 111 | O16: 98 | P16: 89 | Q16: 56 | R16: 93 | S16: 96 | T16: 91 | U16: 86 | V16: 108 | W16: 115 | X16: 46 | Y16: 91 | Z16: 106 | AA16: 93 | AB16: 81 | AC16: 101
A17: 04:00～04:30 | B17: 99 | C17: 65 | D17: 103 | E17: 118 | F17: 91 | G17: 105 | H17: 101 | I17: 89 | J17: 57 | K17: 115 | L17: 123 | M17: 89 | N17: 120 | O17: 111 | P17: 110 | Q17: 55 | R17: 99 | S17: 101 | T17: 127 | U17: 101 | V17: 120 | W17: 134 | X17: 50 | Y17: 122 | Z17: 113 | AA17: 115 | AB17: 103 | AC17: 110
A18: 04:30～05:00 | B18: 108 | C18: 58 | D18: 110 | E18: 117 | F18: 106 | G18: 118 | H18: 108 | I18: 99 | J18: 53 | K18: 125 | L18: 125 | M18: 113 | N18: 129 | O18: 124 | P18: 122 | Q18: 57 | R18: 103 | S18: 108 | T18: 144 | U18: 125 | V18: 118 | W18: 137 | X18: 51 | Y18: 140 | Z18: 115 | AA18: 125 | AB18: 111 | AC18: 113
A19: 05:00～05:30 | B19: 129 | C19: 57 | D19: 123 | E19: 123 | F19: 110 | G19: 125 | H19: 125 | I19: 110 | J19: 63 | K19: 130 | L19: 132 | M19: 117 | N19: 137 | O19: 135 | P19: 137 | Q19: 60 | R19: 117 | S19: 113 | T19: 154 | U19: 146 | V19: 127 | W19: 156 | X19: 55 | Y19: 146 | Z19: 125 | AA19: 144 | AB19: 117 | AC19: 117
A20: 05:30～06:00 | B20: 135 | C20: 53 | D20: 115 | E20: 124 | F20: 106 | G20: 137 | H20: 122 | I20: 101 | J20: 62 | K20: 132 | L20: 127 | M20: 116 | N20: 127 | O20: 125 | P20: 139 | Q20: 58 | R20: 116 | S20: 110 | T20: 153 | U20: 137 | V20: 122 | W20: 154 | X20: 48 | Y20: 127 | Z20: 120 | AA20: 144 | AB20: 113 | AC20: 113
... A56: 23:30～00:00 | B56: 48 | C56: 82 | D56: 93 | E56: 62 | F56: 55 | G56: 53 | H56: 63 | I56: 53 | J56: 77 | K56: 98 | L56: 57 | M56: 77 | N56: 91 | O56: 89 | P56: 53 | Q56: 99 | R56: 55 | S56: 72 | T56: 60 | U56: 98 | V56: 72 | W56: 48 | X56: 53 | Y56: 96 | Z56: 57 | AA56: 48 | AB56: 94 | AC56: 55
A58: 日 計 | B58: =SUM(B9:B56) -> 4356 | C58: =SUM(C9:C56) -> 2974 | D58: =SUM(D9:D56) -> 5301 | E58: =SUM(E9:E56) -> 4841 | F58: =SUM(F9:F56) -> 3924 | G58: =SUM(G9:G56) -> 4051 | H58: =SUM(H9:H56) -> 4083 | I58: =SUM(I9:I56) -> 3794 | ... AC58: =SUM(AC9:AC56) -> 4776
A59: 月 計 | B59: =SUM(B58:AC58) -> 122280
A60: 最大値 | B60: =MAX(B9:AC56) -> 173

Sheet 202504
A2: お 客 さ ま 名 | B2: 鳥取県境港水産事務所（陸送・１号上屋）
A3: ご 契 約 番 号 | B3: 2110-11135736-1
A4: 供給地点特定番号 | B4: 07-1211-1357-3610-1000-0000
A5: 実 績 年 月 | B5: 45748
B8: 03月01日(土) | C8: 03月02日(日) | D8: 03月03日(月) | E8: 03月04日(火) | F8: 03月05日(水) | G8: 03月06日(木) | H8: 03月07日(金) | I8: 03月08日(土) | J8: 03月09日(日) | K8: 03月10日(月) | L8: 03月11日(火) | M8: 03月12日(水) | N8: 03月13日(木) | O8: 03月14日(金) | P8: 03月15日(土) | Q8: 03月16日(日) | R8: 03月17日(月) | S8: 03月18日(火) | T8: 03月19日(水) | U8: 03月20日(木) | V8: 03月21日(金) | W8: 03月22日(土) | X8: 03月23日(日) | Y8: 03月24日(月) | Z8: 03月25日(火) | AA8: 03月26日(水) | AB8: 03月27日(木) | AC8: 03月28日(金) | AD8: 03月29日(土) | AE8: 03月30日(日) | AF8: 03月31日(月)
A9: 00:00～00:30 | B9: 55 | C9: 51 | D9: 93 | E9: 60 | F9: 63 | G9: 50 | H9: 98 | I9: 60 | J9: 89 | K9: 96 | L9: 58 | M9: 53 | N9: 87 | O9: 79 | P9: 55 | Q9: 58 | R9: 103 | S9: 55 | T9: 82 | U9: 50 | V9: 87 | W9: 70 | X9: 46 | Y9: 81 | Z9: 72 | AA9: 77 | AB9: 82 | AC9: 82 | AD9: 69 | AE9: 96 | AF9: 70
A10: 00:30～01:00 | B10: 53 | C10: 55 | D10: 99 | E10: 60 | F10: 60 | G10: 53 | H10: 96 | I10: 58 | J10: 94 | K10: 96 | L10: 57 | M10: 53 | N10: 86 | O10: 82 | P10: 65 | Q10: 60 | R10: 101 | S10: 58 | T10: 81 | U10: 51 | V10: 88 | W10: 67 | X10: 45 | Y10: 87 | Z10: 72 | AA10: 72 | AB10: 79 | AC10: 94 | AD10: 70 | AE10: 106 | AF10: 67
A11: 01:00～01:30 | B11: 53 | C11: 50 | D11: 103 | E11: 63 | F11: 62 | G11: 50 | H11: 101 | I11: 55 | J11: 108 | K11: 96 | L11: 58 | M11: 55 | N11: 89 | O11: 86 | P11: 70 | Q11: 55 | R11: 103 | S11: 55 | T11: 82 | U11: 50 | V11: 89 | W11: 72 | X11: 58 | Y11: 84 | Z11: 82 | AA11: 75 | AB11: 82 | AC11: 96 | AD11: 69 | AE11: 103 | AF11: 70
A12: 01:30～02:00 | B12: 53 | C12: 53 | D12: 103 | E12: 64 | F12: 67 | G12: 53 | H12: 96 | I12: 65 | J12: 115 | K12: 96 | L12: 60 | M12: 65 | N12: 89 | O12: 89 | P12: 74 | Q12: 58 | R12: 99 | S12: 55 | T12: 81 | U12: 53 | V12: 91 | W12: 72 | X12: 67 | Y12: 84 | Z12: 82 | AA12: 69 | AB12: 84 | AC12: 96 | AD12: 75 | AE12: 77 | AF12: 84
A13: 02:00～02:30 | B13: 55 | C13: 48 | D13: 103 | E13: 60 | F13: 65 | G13: 65 | H13: 96 | I13: 67 | J13: 117 | K13: 99 | L13: 65 | M13: 84 | N13: 93 | O13: 89 | P13: 77 | Q13: 57 | R13: 101 | S13: 53 | T13: 84 | U13: 53 | V13: 87 | W13: 72 | X13: 65 | Y13: 81 | Z13: 91 | AA13: 72 | AB13: 86 | AC13: 96 | AD13: 72 | AE13: 70 | AF13: 91
A14: 02:30～03:00 | B14: 60 | C14: 48 | D14: 101 | E14: 63 | F14: 67 | G14: 69 | H14: 96 | I14: 79 | J14: 118 | K14: 105 | L14: 72 | M14: 101 | N14: 94 | O14: 86 | P14: 91 | Q14: 56 | R14: 103 | S14: 55 | T14: 87 | U14: 52 | V14: 93 | W14: 82 | X14: 60 | Y14: 82 | Z14: 96 | AA14: 79 | AB14: 87 | AC14: 100 | AD14: 67 | AE14: 69 | AF14: 89
A15: 03:00～03:30 | B15: 84 | C15: 46 | D15: 101 | E15: 67 | F15: 67 | G15: 77 | H15: 96 | I15: 89 | J15: 118 | K15: 106 | L15: 74 | M15: 101 | N15: 98 | O15: 89 | P15: 91 | Q15: 60 | R15: 103 | S15: 70 | T15: 84 | U15: 56 | V15: 99 | W15: 76 | X15: 65 | Y15: 94 | Z15: 98 | AA15: 87 | AB15: 91 | AC15: 108 | AD15: 74 | AE15: 70 | AF15: 93
A16: 03:30～04:00 | B16: 91 | C16: 45 | D16: 101 | E16: 70 | F16: 82 | G16: 75 | H16: 101 | I16: 89 | J16: 98 | K16: 113 | L16: 67 | M16: 100 | N16: 104 | O16: 91 | P16: 94 | Q16: 60 | R16: 98 | S16: 93 | T16: 89 | U16: 50 | V16: 117 | W16: 82 | X16: 50 | Y16: 91 | Z16: 96 | AA16: 89 | AB16: 91 | AC16: 94 | AD16: 77 | AE16: 69 | AF16: 94
A17: 04:00～04:30 | B17: 122 | C17: 46 | D17: 115 | E17: 98 | F17: 94 | G17: 103 | H17: 112 | I17: 93 | J17: 96 | K17: 112 | L17: 84 | M17: 120 | N17: 110 | O17: 103 | P17: 122 | Q17: 60 | R17: 111 | S17: 108 | T17: 100 | U17: 50 | V17: 130 | W17: 94 | X17: 60 | Y17: 108 | Z17: 108 | AA17: 100 | AB17: 106 | AC17: 113 | AD17: 101 | AE17: 65 | AF17: 120
A18: 04:30～05:00 | B18: 140 | C18: 48 | D18: 118 | E18: 115 | F18: 105 | G18: 117 | H18: 123 | I18: 111 | J18: 98 | K18: 118 | L18: 101 | M18: 125 | N18: 113 | O18: 108 | P18: 135 | Q18: 60 | R18: 115 | S18: 106 | T18: 116 | U18: 53 | V18: 142 | W18: 105 | X18: 65 | Y18: 127 | Z18: 106 | AA18: 125 | AB18: 103 | AC18: 120 | AD18: 98 | AE18: 70 | AF18: 129
A19: 05:00～05:30 | B19: 146 | C19: 50 | D19: 122 | E19: 123 | F19: 113 | G19: 140 | H19: 139 | I19: 122 | J19: 101 | K19: 125 | L19: 122 | M19: 132 | N19: 122 | O19: 123 | P19: 146 | Q19: 62 | R19: 118 | S19: 115 | T19: 122 | U19: 53 | V19: 144 | W19: 111 | X19: 70 | Y19: 139 | Z19: 98 | AA19: 137 | AB19: 103 | AC19: 125 | AD19: 104 | AE19: 72 | AF19: 137
A20: 05:30～06:00 | B20: 130 | C20: 46 | D20: 120 | E20: 117 | F20: 113 | G20: 134 | H20: 127 | I20: 130 | J20: 89 | K20: 120 | L20: 135 | M20: 127 | N20: 113 | O20: 115 | P20: 139 | Q20: 55 | R20: 112 | S20: 106 | T20: 118 | U20: 50 | V20: 141 | W20: 103 | X20: 60 | Y20: 135 | Z20: 89 | AA20: 137 | AB20: 98 | AC20: 103 | AD20: 93 | AE20: 67 | AF20: 115
... A56: 23:30～00:00 | B56: 52 | C56: 91 | D56: 60 | E56: 57 | F56: 51 | G56: 96 | H56: 55 | I56: 89 | J56: 89 | K56: 62 | L56: 55 | M56: 86 | N56: 72 | O56: 50 | P56: 52 | Q56: 101 | R56: 53 | S56: 74 | T56: 48 | U56: 86 | V56: 62 | W56: 45 | X56: 79 | Y56: 76 | Z56: 76 | AA56: 79 | AB56: 93 | AC56: 65 | AD56: 93 | AE56: 67 | AF56: 53
A58: 日 計 | B58: =SUM(B9:B56) -> 4586 | C58: =SUM(C9:C56) -> 2835 | D58: =SUM(D9:D56) -> 4862 | E58: =SUM(E9:E56) -> 4092 | F58: =SUM(F9:F56) -> 3699 | G58: =SUM(G9:G56) -> 4500 | H58: =SUM(H9:H56) -> 4370 | I58: =SUM(I9:I56) -> 4303 | ... AF58: =SUM(AF9:AF56) -> 4416
A59: 月 計 | B59: =SUM(B58:AF58) -> 124339
A60: 最大値 | B60: =MAX(B9:AF56) -> 156

Sheet 202505
A2: お 客 さ ま 名 | B2: 鳥取県境港水産事務所（陸送・１号上屋）
A3: ご 契 約 番 号 | B3: 2110-11135736-1
A4: 供給地点特定番号 | B4: 07-1211-1357-3610-1000-0000
A5: 実 績 年 月 | B5: 45778
B8: 04月01日(火) | C8: 04月02日(水) | D8: 04月03日(木) | E8: 04月04日(金) | F8: 04月05日(土) | G8: 04月06日(日) | H8: 04月07日(月) | I8: 04月08日(火) | J8: 04月09日(水) | K8: 04月10日(木) | L8: 04月11日(金) | M8: 04月12日(土) | N8: 04月13日(日) | O8: 04月14日(月) | P8: 04月15日(火) | Q8: 04月16日(水) | R8: 04月17日(木) | S8: 04月18日(金) | T8: 04月19日(土) | U8: 04月20日(日) | V8: 04月21日(月) | W8: 04月22日(火) | X8: 04月23日(水) | Y8: 04月24日(木) | Z8: 04月25日(金) | AA8: 04月26日(土) | AB8: 04月27日(日) | AC8: 04月28日(月) | AD8: 04月29日(火) | AE8: 04月30日(水)
A9: 00:00～00:30 | B9: 53 | C9: 86 | D9: 72 | E9: 91 | F9: 60 | G9: 50 | H9: 70 | I9: 60 | J9: 84 | K9: 77 | L9: 79 | M9: 77 | N9: 79 | O9: 84 | P9: 52 | Q9: 84 | R9: 86 | S9: 79 | T9: 53 | U9: 58 | V9: 60 | W9: 46 | X9: 79 | Y9: 84 | Z9: 86 | AA9: 89 | AB9: 74 | AC9: 79 | AD9: 89 | AE9: 81
A10: 00:30～01:00 | B10: 55 | C10: 89 | D10: 70 | E10: 91 | F10: 60 | G10: 56 | H10: 70 | I10: 60 | J10: 84 | K10: 79 | L10: 82 | M10: 81 | N10: 84 | O10: 82 | P10: 58 | Q10: 91 | R10: 87 | S10: 82 | T10: 55 | U10: 60 | V10: 58 | W10: 52 | X10: 77 | Y10: 81 | Z10: 82 | AA10: 91 | AB10: 65 | AC10: 77 | AD10: 84 | AE10: 79
A11: 01:00～01:30 | B11: 55 | C11: 89 | D11: 72 | E11: 89 | F11: 60 | G11: 60 | H11: 69 | I11: 57 | J11: 87 | K11: 79 | L11: 84 | M11: 79 | N11: 79 | O11: 81 | P11: 58 | Q11: 89 | R11: 81 | S11: 79 | T11: 53 | U11: 57 | V11: 64 | W11: 51 | X11: 77 | Y11: 82 | Z11: 84 | AA11: 92 | AB11: 60 | AC11: 77 | AD11: 79 | AE11: 80
A12: 01:30～02:00 | B12: 58 | C12: 91 | D12: 72 | E12: 91 | F12: 60 | G12: 64 | H12: 67 | I12: 60 | J12: 88 | K12: 77 | L12: 86 | M12: 82 | N12: 84 | O12: 87 | P12: 62 | Q12: 94 | R12: 82 | S12: 77 | T12: 50 | U12: 58 | V12: 63 | W12: 50 | X12: 81 | Y12: 84 | Z12: 81 | AA12: 88 | AB12: 57 | AC12: 77 | AD12: 79 | AE12: 81
A13: 02:00～02:30 | B13: 55 | C13: 91 | D13: 74 | E13: 89 | F13: 60 | G13: 63 | H13: 72 | I13: 58 | J13: 89 | K13: 77 | L13: 84 | M13: 82 | N13: 86 | O13: 86 | P13: 67 | Q13: 91 | R13: 82 | S13: 76 | T13: 50 | U13: 50 | V13: 65 | W13: 53 | X13: 82 | Y13: 84 | Z13: 82 | AA13: 92 | AB13: 58 | AC13: 79 | AD13: 70 | AE13: 79
A14: 02:30～03:00 | B14: 55 | C14: 94 | D14: 84 | E14: 98 | F14: 60 | G14: 57 | H14: 77 | I14: 55 | J14: 89 | K14: 77 | L14: 82 | M14: 84 | N14: 84 | O14: 89 | P14: 72 | Q14: 91 | R14: 84 | S14: 80 | T14: 56 | U14: 48 | V14: 74 | W14: 67 | X14: 79 | Y14: 91 | Z14: 94 | AA14: 91 | AB14: 58 | AC14: 84 | AD14: 52 | AE14: 84
A15: 03:00～03:30 | B15: 60 | C15: 93 | D15: 89 | E15: 106 | F15: 84 | G15: 53 | H15: 82 | I15: 55 | J15: 89 | K15: 79 | L15: 96 | M15: 84 | N15: 75 | O15: 98 | P15: 75 | Q15: 91 | R15: 86 | S15: 76 | T15: 60 | U15: 51 | V15: 74 | W15: 82 | X15: 89 | Y15: 96 | Z15: 96 | AA15: 89 | AB15: 57 | AC15: 86 | AD15: 63 | AE15: 89
A16: 03:30～04:00 | B16: 63 | C16: 94 | D16: 93 | E16: 103 | F16: 93 | G16: 51 | H16: 91 | I16: 72 | J16: 93 | K16: 79 | L16: 98 | M16: 91 | N16: 69 | O16: 91 | P16: 81 | Q16: 94 | R16: 91 | S16: 80 | T16: 74 | U16: 48 | V16: 80 | W16: 79 | X16: 94 | Y16: 91 | Z16: 88 | AA16: 96 | AB16: 58 | AC16: 82 | AD16: 77 | AE16: 91
A17: 04:00～04:30 | B17: 100 | C17: 110 | D17: 111 | E17: 123 | F17: 113 | G17: 60 | H17: 118 | I17: 96 | J17: 116 | K17: 98 | L17: 113 | M17: 108 | N17: 82 | O17: 106 | P17: 108 | Q17: 113 | R17: 99 | S17: 98 | T17: 98 | U17: 62 | V17: 103 | W17: 96 | X17: 112 | Y17: 113 | Z17: 101 | AA17: 117 | AB17: 72 | AC17: 110 | AD17: 100 | AE17: 111
A18: 04:30～05:00 | B18: 123 | C18: 115 | D18: 108 | E18: 122 | F18: 113 | G18: 62 | H18: 122 | I18: 111 | J18: 120 | K18: 116 | L18: 130 | M18: 110 | N18: 77 | O18: 115 | P18: 130 | Q18: 108 | R18: 98 | S18: 110 | T18: 104 | U18: 67 | V18: 120 | W18: 106 | X18: 116 | Y18: 118 | Z18: 103 | AA18: 130 | AB18: 74 | AC18: 111 | AD18: 113 | AE18: 127
A19: 05:00～05:30 | B19: 132 | C19: 116 | D19: 120 | E19: 127 | F19: 120 | G19: 65 | H19: 130 | I19: 113 | J19: 124 | K19: 122 | L19: 141 | M19: 115 | N19: 77 | O19: 118 | P19: 134 | Q19: 113 | R19: 106 | S19: 104 | T19: 103 | U19: 60 | V19: 122 | W19: 112 | X19: 110 | Y19: 122 | Z19: 111 | AA19: 137 | AB19: 67 | AC19: 105 | AD19: 118 | AE19: 125
A20: 05:30～06:00 | B20: 122 | C20: 110 | D20: 113 | E20: 130 | F20: 110 | G20: 65 | H20: 115 | I20: 105 | J20: 118 | K20: 110 | L20: 135 | M20: 111 | N20: 76 | O20: 101 | P20: 113 | Q20: 100 | R20: 98 | S20: 96 | T20: 93 | U20: 51 | V20: 113 | W20: 108 | X20: 98 | Y20: 108 | Z20: 108 | AA20: 127 | AB20: 53 | AC20: 106 | AD20: 115 | AE20: 115
... A56: 23:30～00:00 | B56: 80 | C56: 70 | D56: 89 | E56: 60 | F56: 41 | G56: 67 | H56: 58 | I56: 81 | J56: 65 | K56: 82 | L56: 79 | M56: 80 | N56: 79 | O56: 46 | P56: 84 | Q56: 82 | R56: 75 | S56: 48 | T56: 57 | U56: 60 | V56: 43 | W56: 84 | X56: 82 | Y56: 84 | Z56: 86 | AA56: 82 | AB56: 74 | AC56: 87 | AD56: 84 | AE56: 79
A58: 日 計 | B58: =SUM(B9:B56) -> 4030 | C58: =SUM(C9:C56) -> 3878 | D58: =SUM(D9:D56) -> 4337 | E58: =SUM(E9:E56) -> 4380 | F58: =SUM(F9:F56) -> 3487 | G58: =SUM(G9:G56) -> 2522 | H58: =SUM(H9:H56) -> 4179 | I58: =SUM(I9:I56) -> 3506 | ... AE58: =SUM(AE9:AE56) -> 3775
A59: 月 計 | B59: =SUM(B58:AE58) -> 109985
A60: 最大値 | B60: =MAX(B9:AE56) -> 141

Sheet 202506
A2: お 客 さ ま 名 | B2: 鳥取県境港水産事務所（陸送・１号上屋）
A3: ご 契 約 番 号 | B3: 2110-11135736-1
A4: 供給地点特定番号 | B4: 07-1211-1357-3610-1000-0000
A5: 実 績 年 月 | B5: 45809
B8: 05月01日(木) | C8: 05月02日(金) | D8: 05月03日(土) | E8: 05月04日(日) | F8: 05月05日(月) | G8: 05月06日(火) | H8: 05月07日(水) | I8: 05月08日(木) | J8: 05月09日(金) | K8: 05月10日(土) | L8: 05月11日(日) | M8: 05月12日(月) | N8: 05月13日(火) | O8: 05月14日(水) | P8: 05月15日(木) | Q8: 05月16日(金) | R8: 05月17日(土) | S8: 05月18日(日) | T8: 05月19日(月) | U8: 05月20日(火) | V8: 05月21日(水) | W8: 05月22日(木) | X8: 05月23日(金) | Y8: 05月24日(土) | Z8: 05月25日(日) | AA8: 05月26日(月) | AB8: 05月27日(火) | AC8: 05月28日(水) | AD8: 05月29日(木) | AE8: 05月30日(金) | AF8: 05月31日(土)
A9: 00:00～00:30 | B9: 84 | C9: 65 | D9: 46 | E9: 39 | F9: 43 | G9: 41 | H9: 84 | I9: 69 | J9: 72 | K9: 89 | L9: 43 | M9: 45 | N9: 98 | O9: 77 | P9: 80 | Q9: 87 | R9: 57 | S9: 46 | T9: 75 | U9: 50 | V9: 79 | W9: 63 | X9: 77 | Y9: 60 | Z9: 41 | AA9: 79 | AB9: 82 | AC9: 53 | AD9: 82 | AE9: 77 | AF9: 46
A10: 00:30～01:00 | B10: 77 | C10: 64 | D10: 43 | E10: 38 | F10: 41 | G10: 41 | H10: 81 | I10: 80 | J10: 75 | K10: 88 | L10: 46 | M10: 46 | N10: 103 | O10: 77 | P10: 91 | Q10: 89 | R10: 67 | S10: 46 | T10: 74 | U10: 50 | V10: 82 | W10: 67 | X10: 75 | Y10: 68 | Z10: 38 | AA10: 82 | AB10: 82 | AC10: 60 | AD10: 72 | AE10: 74 | AF10: 50
A11: 01:00～01:30 | B11: 69 | C11: 70 | D11: 46 | E11: 39 | F11: 39 | G11: 41 | H11: 77 | I11: 84 | J11: 77 | K11: 92 | L11: 43 | M11: 45 | N11: 99 | O11: 74 | P11: 81 | Q11: 84 | R11: 70 | S11: 43 | T11: 79 | U11: 53 | V11: 81 | W11: 65 | X11: 67 | Y11: 69 | Z11: 46 | AA11: 84 | AB11: 81 | AC11: 67 | AD11: 76 | AE11: 75 | AF11: 50
A12: 01:30～02:00 | B12: 68 | C12: 67 | D12: 45 | E12: 40 | F12: 40 | G12: 41 | H12: 82 | I12: 84 | J12: 81 | K12: 93 | L12: 45 | M12: 48 | N12: 100 | O12: 82 | P12: 82 | Q12: 81 | R12: 67 | S12: 41 | T12: 84 | U12: 53 | V12: 80 | W12: 69 | X12: 67 | Y12: 84 | Z12: 50 | AA12: 84 | AB12: 84 | AC12: 75 | AD12: 80 | AE12: 77 | AF12: 48
A13: 02:00～02:30 | B13: 72 | C13: 72 | D13: 46 | E13: 41 | F13: 46 | G13: 38 | H13: 84 | I13: 84 | J13: 82 | K13: 94 | L13: 46 | M13: 80 | N13: 92 | O13: 84 | P13: 79 | Q13: 84 | R13: 70 | S13: 40 | T13: 77 | U13: 50 | V13: 76 | W13: 68 | X13: 74 | Y13: 82 | Z13: 46 | AA13: 84 | AB13: 84 | AC13: 84 | AD13: 76 | AE13: 76 | AF13: 51
A14: 02:30～03:00 | B14: 72 | C14: 70 | D14: 41 | E14: 46 | F14: 43 | G14: 43 | H14: 89 | I14: 86 | J14: 79 | K14: 91 | L14: 50 | M14: 79 | N14: 96 | O14: 89 | P14: 84 | Q14: 94 | R14: 79 | S14: 39 | T14: 82 | U14: 53 | V14: 80 | W14: 74 | X14: 75 | Y14: 89 | Z14: 46 | AA14: 89 | AB14: 84 | AC14: 86 | AD14: 82 | AE14: 80 | AF14: 48
A15: 03:00～03:30 | B15: 93 | C15: 81 | D15: 43 | E15: 43 | F15: 41 | G15: 43 | H15: 91 | I15: 91 | J15: 84 | K15: 91 | L15: 41 | M15: 79 | N15: 88 | O15: 86 | P15: 94 | Q15: 86 | R15: 79 | S15: 41 | T15: 84 | U15: 65 | V15: 76 | W15: 79 | X15: 81 | Y15: 86 | Z15: 45 | AA15: 91 | AB15: 87 | AC15: 89 | AD15: 84 | AE15: 81 | AF15: 62
A16: 03:30～04:00 | B16: 94 | C16: 80 | D16: 41 | E16: 38 | F16: 43 | G16: 41 | H16: 98 | I16: 94 | J16: 94 | K16: 94 | L16: 39 | M16: 84 | N16: 82 | O16: 91 | P16: 89 | Q16: 89 | R16: 87 | S16: 43 | T16: 86 | U16: 89 | V16: 82 | W16: 79 | X16: 84 | Y16: 96 | Z16: 46 | AA16: 93 | AB16: 91 | AC16: 91 | AD16: 77 | AE16: 84 | AF16: 60
A17: 04:00～04:30 | B17: 108 | C17: 96 | D17: 55 | E17: 60 | F17: 51 | G17: 55 | H17: 115 | I17: 113 | J17: 100 | K17: 103 | L17: 55 | M17: 101 | N17: 96 | O17: 99 | P17: 108 | Q17: 115 | R17: 112 | S17: 79 | T17: 106 | U17: 105 | V17: 94 | W17: 96 | X17: 94 | Y17: 98 | Z17: 45 | AA17: 99 | AB17: 98 | AC17: 94 | AD17: 86 | AE17: 89 | AF17: 70
A18: 04:30～05:00 | B18: 110 | C18: 100 | D18: 50 | E18: 60 | F18: 40 | G18: 58 | H18: 106 | I18: 120 | J18: 99 | K18: 115 | L18: 60 | M18: 98 | N18: 103 | O18: 105 | P18: 129 | Q18: 125 | R18: 130 | S18: 77 | T18: 120 | U18: 116 | V18: 112 | W18: 101 | X18: 108 | Y18: 99 | Z18: 41 | AA18: 101 | AB18: 99 | AC18: 101 | AD18: 96 | AE18: 106 | AF18: 89
A19: 05:00～05:30 | B19: 123 | C19: 113 | D19: 51 | E19: 51 | F19: 41 | G19: 58 | H19: 103 | I19: 129 | J19: 101 | K19: 113 | L19: 62 | M19: 91 | N19: 101 | O19: 113 | P19: 139 | Q19: 142 | R19: 130 | S19: 96 | T19: 120 | U19: 117 | V19: 101 | W19: 113 | X19: 108 | Y19: 101 | Z19: 41 | AA19: 103 | AB19: 100 | AC19: 108 | AD19: 101 | AE19: 105 | AF19: 86
A20: 05:30～06:00 | B20: 115 | C20: 111 | D20: 40 | E20: 38 | F20: 39 | G20: 55 | H20: 108 | I20: 125 | J20: 96 | K20: 115 | L20: 58 | M20: 89 | N20: 96 | O20: 113 | P20: 135 | Q20: 134 | R20: 120 | S20: 93 | T20: 117 | U20: 94 | V20: 91 | W20: 101 | X20: 98 | Y20: 96 | Z20: 38 | AA20: 103 | AB20: 96 | AC20: 93 | AD20: 96 | AE20: 99 | AF20: 89
... A56: 23:30～00:00 | B56: 63 | C56: 43 | D56: 40 | E56: 41 | F56: 38 | G56: 84 | H56: 70 | I56: 74 | J56: 84 | K56: 43 | L56: 46 | M56: 92 | N56: 64 | O56: 69 | P56: 84 | Q56: 48 | R56: 40 | S56: 69 | T56: 46 | U56: 84 | V56: 52 | W56: 74 | X56: 57 | Y56: 38 | Z56: 77 | AA56: 79 | AB56: 52 | AC56: 82 | AD56: 74 | AE56: 43 | AF56: 44
A58: 日 計 | B58: =SUM(B9:B56) -> 3845 | C58: =SUM(C9:C56) -> 3470 | D58: =SUM(D9:D56) -> 2371 | E58: =SUM(E9:E56) -> 1997 | F58: =SUM(F9:F56) -> 2071 | G58: =SUM(G9:G56) -> 2583 | H58: =SUM(H9:H56) -> 3708 | I58: =SUM(I9:I56) -> 3957 | ... AF58: =SUM(AF9:AF56) -> 3106
A59: 月 計 | B59: =SUM(B58:AF58) -> 109726
A60: 最大値 | B60: =MAX(B9:AF56) -> 146

Sheet 202507
A2: お 客 さ ま 名 | B2: 鳥取県境港水産事務所（陸送・１号上屋）
A3: ご 契 約 番 号 | B3: 2110-11135736-1
A4: 供給地点特定番号 | B4: 07-1211-1357-3610-1000-0000
A5: 実 績 年 月 | B5: 45839
B8: 06月01日(日) | C8: 06月02日(月) | D8: 06月03日(火) | E8: 06月04日(水) | F8: 06月05日(木) | G8: 06月06日(金) | H8: 06月07日(土) | I8: 06月08日(日) | J8: 06月09日(月) | K8: 06月10日(火) | L8: 06月11日(水) | M8: 06月12日(木) | N8: 06月13日(金) | O8: 06月14日(土) | P8: 06月15日(日) | Q8: 06月16日(月) | R8: 06月17日(火) | S8: 06月18日(水) | T8: 06月19日(木) | U8: 06月20日(金) | V8: 06月21日(土) | W8: 06月22日(日) | X8: 06月23日(月) | Y8: 06月24日(火) | Z8: 06月25日(水) | AA8: 06月26日(木) | AB8: 06月27日(金) | AC8: 06月28日(土) | AD8: 06月29日(日) | AE8: 06月30日(月)
A9: 00:00～00:30 | B9: 48 | C9: 38 | D9: 43 | E9: 53 | F9: 43 | G9: 53 | H9: 48 | I9: 45 | J9: 48 | K9: 45 | L9: 50 | M9: 62 | N9: 55 | O9: 48 | P9: 46 | Q9: 50 | R9: 52 | S9: 63 | T9: 58 | U9: 53 | V9: 62 | W9: 55 | X9: 58 | Y9: 51 | Z9: 63 | AA9: 58 | AB9: 65 | AC9: 60 | AD9: 55 | AE9: 62
A10: 00:30～01:00 | B10: 50 | C10: 44 | D10: 46 | E10: 53 | F10: 44 | G10: 53 | H10: 48 | I10: 46 | J10: 45 | K10: 53 | L10: 53 | M10: 65 | N10: 58 | O10: 48 | P10: 45 | Q10: 53 | R10: 53 | S10: 55 | T10: 60 | U10: 50 | V10: 60 | W10: 53 | X10: 50 | Y10: 50 | Z10: 55 | AA10: 60 | AB10: 60 | AC10: 58 | AD10: 51 | AE10: 65
A11: 01:00～01:30 | B11: 44 | C11: 48 | D11: 46 | E11: 57 | F11: 40 | G11: 48 | H11: 51 | I11: 50 | J11: 41 | K11: 50 | L11: 48 | M11: 65 | N11: 60 | O11: 55 | P11: 46 | Q11: 48 | R11: 46 | S11: 50 | T11: 53 | U11: 55 | V11: 58 | W11: 50 | X11: 53 | Y11: 53 | Z11: 55 | AA11: 58 | AB11: 55 | AC11: 52 | AD11: 50 | AE11: 60
A12: 01:30～02:00 | B12: 43 | C12: 50 | D12: 57 | E12: 65 | F12: 46 | G12: 55 | H12: 52 | I12: 48 | J12: 43 | K12: 53 | L12: 50 | M12: 65 | N12: 60 | O12: 55 | P12: 48 | Q12: 48 | R12: 48 | S12: 58 | T12: 52 | U12: 72 | V12: 62 | W12: 58 | X12: 57 | Y12: 53 | Z12: 58 | AA12: 55 | AB12: 56 | AC12: 51 | AD12: 50 | AE12: 63
A13: 02:00～02:30 | B13: 48 | C13: 43 | D13: 60 | E13: 63 | F13: 50 | G13: 55 | H13: 53 | I13: 48 | J13: 51 | K13: 51 | L13: 51 | M13: 62 | N13: 55 | O13: 58 | P13: 48 | Q13: 55 | R13: 50 | S13: 62 | T13: 58 | U13: 75 | V13: 67 | W13: 60 | X13: 63 | Y13: 55 | Z13: 60 | AA13: 50 | AB13: 60 | AC13: 50 | AD13: 58 | AE13: 67
A14: 02:30～03:00 | B14: 48 | C14: 46 | D14: 65 | E14: 64 | F14: 46 | G14: 53 | H14: 58 | I14: 51 | J14: 50 | K14: 52 | L14: 50 | M14: 58 | N14: 50 | O14: 53 | P14: 50 | Q14: 53 | R14: 58 | S14: 67 | T14: 65 | U14: 74 | V14: 67 | W14: 55 | X14: 60 | Y14: 65 | Z14: 62 | AA14: 58 | AB14: 64 | AC14: 53 | AD14: 53 | AE14: 74
A15: 03:00～03:30 | B15: 43 | C15: 60 | D15: 65 | E15: 77 | F15: 55 | G15: 58 | H15: 57 | I15: 48 | J15: 58 | K15: 56 | L15: 58 | M15: 69 | N15: 58 | O15: 67 | P15: 58 | Q15: 62 | R15: 69 | S15: 68 | T15: 72 | U15: 84 | V15: 63 | W15: 58 | X15: 69 | Y15: 81 | Z15: 67 | AA15: 60 | AB15: 77 | AC15: 62 | AD15: 55 | AE15: 91
A16: 03:30～04:00 | B16: 46 | C16: 65 | D16: 60 | E16: 82 | F16: 63 | G16: 62 | H16: 63 | I16: 53 | J16: 57 | K16: 74 | L16: 67 | M16: 70 | N16: 60 | O16: 69 | P16: 58 | Q16: 77 | R16: 82 | S16: 64 | T16: 77 | U16: 91 | V16: 72 | W16: 53 | X16: 70 | Y16: 87 | Z16: 87 | AA16: 67 | AB16: 84 | AC16: 70 | AD16: 53 | AE16: 94
A17: 04:00～04:30 | B17: 48 | C17: 81 | D17: 77 | E17: 101 | F17: 88 | G17: 82 | H17: 96 | I17: 62 | J17: 99 | K17: 115 | L17: 98 | M17: 115 | N17: 91 | O17: 125 | P17: 74 | Q17: 111 | R17: 120 | S17: 104 | T17: 117 | U17: 120 | V17: 110 | W17: 84 | X17: 106 | Y17: 110 | Z17: 134 | AA17: 108 | AB17: 106 | AC17: 108 | AD17: 81 | AE17: 134
A18: 04:30～05:00 | B18: 45 | C18: 96 | D18: 91 | E18: 103 | F18: 108 | G18: 103 | H18: 117 | I18: 65 | J18: 112 | K18: 113 | L18: 115 | M18: 135 | N18: 120 | O18: 123 | P18: 74 | Q18: 112 | R18: 115 | S18: 122 | T18: 118 | U18: 132 | V18: 130 | W18: 100 | X18: 129 | Y18: 120 | Z18: 144 | AA18: 134 | AB18: 110 | AC18: 134 | AD18: 89 | AE18: 154
A19: 05:00～05:30 | B19: 43 | C19: 96 | D19: 93 | E19: 101 | F19: 113 | G19: 110 | H19: 116 | I19: 74 | J19: 118 | K19: 106 | L19: 123 | M19: 134 | N19: 120 | O19: 117 | P19: 87 | Q19: 111 | R19: 125 | S19: 130 | T19: 127 | U19: 128 | V19: 139 | W19: 116 | X19: 139 | Y19: 130 | Z19: 144 | AA19: 149 | AB19: 113 | AC19: 135 | AD19: 82 | AE19: 158
A20: 05:30～06:00 | B20: 41 | C20: 87 | D20: 89 | E20: 91 | F20: 113 | G20: 118 | H20: 115 | I20: 72 | J20: 125 | K20: 108 | L20: 120 | M20: 130 | N20: 113 | O20: 113 | P20: 96 | Q20: 108 | R20: 125 | S20: 115 | T20: 120 | U20: 120 | V20: 137 | W20: 129 | X20: 142 | Y20: 129 | Z20: 134 | AA20: 149 | AB20: 106 | AC20: 134 | AD20: 72 | AE20: 149
... A56: 23:30～00:00 | B56: 43 | C56: 43 | D56: 45 | E56: 45 | F56: 50 | G56: 53 | H56: 48 | I56: 53 | J56: 48 | K56: 48 | L56: 58 | M56: 51 | N56: 43 | O56: 48 | P56: 51 | Q56: 53 | R56: 60 | S56: 57 | T56: 53 | U56: 58 | V56: 53 | W56: 60 | X56: 45 | Y56: 62 | Z56: 57 | AA56: 67 | AB56: 55 | AC56: 55 | AD56: 55 | AE56: 63
A58: 日 計 | B58: =SUM(B9:B56) -> 2316 | C58: =SUM(C9:C56) -> 3559 | D58: =SUM(D9:D56) -> 3648 | E58: =SUM(E9:E56) -> 3672 | F58: =SUM(F9:F56) -> 3451 | G58: =SUM(G9:G56) -> 3341 | H58: =SUM(H9:H56) -> 3706 | I58: =SUM(I9:I56) -> 2777 | ... AE58: =SUM(AE9:AE56) -> 5626
A59: 月 計 | B59: =SUM(B58:AE58) -> 116602
A60: 最大値 | B60: =MAX(B9:AE56) -> 189

Sheet 202508
A2: お 客 さ ま 名 | B2: 鳥取県境港水産事務所（陸送・１号上屋）
A3: ご 契 約 番 号 | B3: 2110-11135736-1
A4: 供給地点特定番号 | B4: 07-1211-1357-3610-1000-0000
A5: 実 績 年 月 | B5: 45870
B8: 07月01日(火) | C8: 07月02日(水) | D8: 07月03日(木) | E8: 07月04日(金) | F8: 07月05日(土) | G8: 07月06日(日) | H8: 07月07日(月) | I8: 07月08日(火) | J8: 07月09日(水) | K8: 07月10日(木) | L8: 07月11日(金) | M8: 07月12日(土) | N8: 07月13日(日) | O8: 07月14日(月) | P8: 07月15日(火) | Q8: 07月16日(水) | R8: 07月17日(木) | S8: 07月18日(金) | T8: 07月19日(土) | U8: 07月20日(日) | V8: 07月21日(月) | W8: 07月22日(火) | X8: 07月23日(水) | Y8: 07月24日(木) | Z8: 07月25日(金) | AA8: 07月26日(土) | AB8: 07月27日(日) | AC8: 07月28日(月) | AD8: 07月29日(火) | AE8: 07月30日(水) | AF8: 07月31日(木)
A9: 00:00～00:30 | B9: 67 | C9: 65 | D9: 77 | E9: 65 | F9: 98 | G9: 64 | H9: 70 | I9: 89 | J9: 69 | K9: 75 | L9: 98 | M9: 67 | N9: 65 | O9: 72 | P9: 72 | Q9: 72 | R9: 94 | S9: 84 | T9: 77 | U9: 58 | V9: 60 | W9: 68 | X9: 89 | Y9: 72 | Z9: 72 | AA9: 70 | AB9: 62 | AC9: 74 | AD9: 77 | AE9: 72 | AF9: 72
A10: 00:30～01:00 | B10: 75 | C10: 67 | D10: 74 | E10: 67 | F10: 94 | G10: 65 | H10: 69 | I10: 93 | J10: 65 | K10: 72 | L10: 94 | M10: 70 | N10: 65 | O10: 68 | P10: 67 | Q10: 72 | R10: 89 | S10: 79 | T10: 72 | U10: 57 | V10: 62 | W10: 67 | X10: 91 | Y10: 74 | Z10: 79 | AA10: 74 | AB10: 62 | AC10: 77 | AD10: 79 | AE10: 72 | AF10: 72
A11: 01:00～01:30 | B11: 74 | C11: 70 | D11: 75 | E11: 68 | F11: 110 | G11: 60 | H11: 68 | I11: 94 | J11: 65 | K11: 67 | L11: 86 | M11: 67 | N11: 67 | O11: 64 | P11: 75 | Q11: 65 | R11: 74 | S11: 67 | T11: 69 | U11: 55 | V11: 67 | W11: 69 | X11: 94 | Y11: 68 | Z11: 87 | AA11: 72 | AB11: 63 | AC11: 74 | AD11: 74 | AE11: 70 | AF11: 69
A12: 01:30～02:00 | B12: 82 | C12: 64 | D12: 76 | E12: 67 | F12: 120 | G12: 60 | H12: 64 | I12: 91 | J12: 65 | K12: 62 | L12: 91 | M12: 67 | N12: 55 | O12: 63 | P12: 81 | Q12: 69 | R12: 79 | S12: 63 | T12: 63 | U12: 56 | V12: 65 | W12: 70 | X12: 96 | Y12: 72 | Z12: 86 | AA12: 72 | AB12: 62 | AC12: 72 | AD12: 72 | AE12: 77 | AF12: 84
A13: 02:00～02:30 | B13: 81 | C13: 70 | D13: 80 | E13: 79 | F13: 123 | G13: 63 | H13: 68 | I13: 91 | J13: 69 | K13: 60 | L13: 99 | M13: 63 | N13: 53 | O13: 65 | P13: 84 | Q13: 68 | R13: 80 | S13: 84 | T13: 69 | U13: 50 | V13: 62 | W13: 70 | X13: 103 | Y13: 81 | Z13: 89 | AA13: 77 | AB13: 60 | AC13: 72 | AD13: 72 | AE13: 84 | AF13: 87
A14: 02:30～03:00 | B14: 77 | C14: 74 | D14: 84 | E14: 86 | F14: 117 | G14: 57 | H14: 72 | I14: 84 | J14: 77 | K14: 70 | L14: 105 | M14: 67 | N14: 55 | O14: 79 | P14: 84 | Q14: 69 | R14: 76 | S14: 86 | T14: 72 | U14: 55 | V14: 63 | W14: 62 | X14: 101 | Y14: 87 | Z14: 93 | AA14: 93 | AB14: 63 | AC14: 80 | AD14: 82 | AE14: 96 | AF14: 81
A15: 03:00～03:30 | B15: 89 | C15: 99 | D15: 98 | E15: 92 | F15: 120 | G15: 60 | H15: 91 | I15: 94 | J15: 91 | K15: 79 | L15: 123 | M15: 72 | N15: 53 | O15: 93 | P15: 89 | Q15: 87 | R15: 82 | S15: 79 | T15: 82 | U15: 65 | V15: 55 | W15: 84 | X15: 117 | Y15: 93 | Z15: 94 | AA15: 89 | AB15: 64 | AC15: 98 | AD15: 89 | AE15: 84 | AF15: 82
A16: 03:30～04:00 | B16: 89 | C16: 120 | D16: 96 | E16: 93 | F16: 120 | G16: 60 | H16: 125 | I16: 113 | J16: 89 | K16: 103 | L16: 117 | M16: 79 | N16: 55 | O16: 104 | P16: 79 | Q16: 120 | R16: 82 | S16: 84 | T16: 91 | U16: 67 | V16: 58 | W16: 98 | X16: 103 | Y16: 94 | Z16: 94 | AA16: 94 | AB16: 65 | AC16: 103 | AD16: 98 | AE16: 93 | AF16: 98
A17: 04:00～04:30 | B17: 120 | C17: 156 | D17: 132 | E17: 144 | F17: 130 | G17: 77 | H17: 148 | I17: 139 | J17: 127 | K17: 132 | L17: 120 | M17: 101 | N17: 74 | O17: 139 | P17: 96 | Q17: 144 | R17: 120 | S17: 135 | T17: 130 | U17: 87 | V17: 76 | W17: 156 | X17: 128 | Y17: 137 | Z17: 129 | AA17: 141 | AB17: 79 | AC17: 135 | AD17: 142 | AE17: 123 | AF17: 135
A18: 04:30～05:00 | B18: 134 | C18: 165 | D18: 139 | E18: 161 | F18: 156 | G18: 91 | H18: 154 | I18: 154 | J18: 147 | K18: 161 | L18: 135 | M18: 110 | N18: 89 | O18: 170 | P18: 106 | Q18: 148 | R18: 146 | S18: 139 | T18: 151 | U18: 93 | V18: 89 | W18: 173 | X18: 144 | Y18: 151 | Z18: 147 | AA18: 156 | AB18: 92 | AC18: 148 | AD18: 165 | AE18: 146 | AF18: 160
A19: 05:00～05:30 | B19: 139 | C19: 154 | D19: 135 | E19: 163 | F19: 165 | G19: 101 | H19: 161 | I19: 177 | J19: 161 | K19: 163 | L19: 139 | M19: 116 | N19: 87 | O19: 178 | P19: 113 | Q19: 159 | R19: 166 | S19: 142 | T19: 166 | U19: 91 | V19: 99 | W19: 178 | X19: 148 | Y19: 161 | Z19: 158 | AA19: 159 | AB19: 103 | AC19: 161 | AD19: 176 | AE19: 166 | AF19: 178
A20: 05:30～06:00 | B20: 149 | C20: 151 | D20: 132 | E20: 156 | F20: 164 | G20: 103 | H20: 153 | I20: 154 | J20: 168 | K20: 168 | L20: 125 | M20: 115 | N20: 79 | O20: 165 | P20: 105 | Q20: 151 | R20: 158 | S20: 144 | T20: 156 | U20: 63 | V20: 103 | W20: 177 | X20: 140 | Y20: 156 | Z20: 154 | AA20: 132 | AB20: 105 | AC20: 156 | AD20: 165 | AE20: 170 | AF20: 170
... A56: 23:30～00:00 | B56: 65 | C56: 77 | D56: 64 | E56: 94 | F56: 70 | G56: 62 | H56: 84 | I56: 58 | J56: 72 | K56: 94 | L56: 62 | M56: 58 | N56: 72 | O56: 77 | P56: 70 | Q56: 86 | R56: 77 | S56: 70 | T56: 60 | U56: 56 | V56: 62 | W56: 86 | X56: 72 | Y56: 82 | Z56: 77 | AA56: 60 | AB56: 72 | AC56: 79 | AD56: 69 | AE56: 72 | AF56: 69
A58: 日 計 | B58: =SUM(B9:B56) -> 4776 | C58: =SUM(C9:C56) -> 6240 | D58: =SUM(D9:D56) -> 4910 | E58: =SUM(E9:E56) -> 6687 | F58: =SUM(F9:F56) -> 4853 | G58: =SUM(G9:G56) -> 3393 | H58: =SUM(H9:H56) -> 6173 | I58: =SUM(I9:I56) -> 4625 | ... AF58: =SUM(AF9:AF56) -> 5001
A59: 月 計 | B59: =SUM(B58:AF58) -> 154905
A60: 最大値 | B60: =MAX(B9:AF56) -> 189

Sheet 202509
A2: お 客 さ ま 名 | B2: 鳥取県境港水産事務所（陸送・１号上屋）
A3: ご 契 約 番 号 | B3: 2110-11135736-1
A4: 供給地点特定番号 | B4: 07-1211-1357-3610-1000-0000
A5: 実 績 年 月 | B5: 45901
B8: 08月01日(金) | C8: 08月02日(土) | D8: 08月03日(日) | E8: 08月04日(月) | F8: 08月05日(火) | G8: 08月06日(水) | H8: 08月07日(木) | I8: 08月08日(金) | J8: 08月09日(土) | K8: 08月10日(日) | L8: 08月11日(月) | M8: 08月12日(火) | N8: 08月13日(水) | O8: 08月14日(木) | P8: 08月15日(金) | Q8: 08月16日(土) | R8: 08月17日(日) | S8: 08月18日(月) | T8: 08月19日(火) | U8: 08月20日(水) | V8: 08月21日(木) | W8: 08月22日(金) | X8: 08月23日(土) | Y8: 08月24日(日) | Z8: 08月25日(月) | AA8: 08月26日(火) | AB8: 08月27日(水) | AC8: 08月28日(木) | AD8: 08月29日(金) | AE8: 08月30日(土) | AF8: 08月31日(日)
A9: 00:00～00:30 | B9: 70 | C9: 77 | D9: 74 | E9: 77 | F9: 82 | G9: 77 | H9: 74 | I9: 72 | J9: 67 | K9: 62 | L9: 63 | M9: 91 | N9: 57 | O9: 55 | P9: 50 | Q9: 52 | R9: 55 | S9: 74 | T9: 82 | U9: 111 | V9: 103 | W9: 77 | X9: 96 | Y9: 67 | Z9: 77 | AA9: 113 | AB9: 89 | AC9: 70 | AD9: 62 | AE9: 99 | AF9: 103
A10: 00:30～01:00 | B10: 72 | C10: 75 | D10: 75 | E10: 79 | F10: 77 | G10: 81 | H10: 75 | I10: 75 | J10: 70 | K10: 65 | L10: 62 | M10: 87 | N10: 56 | O10: 58 | P10: 56 | Q10: 51 | R10: 55 | S10: 75 | T10: 88 | U10: 110 | V10: 113 | W10: 84 | X10: 105 | Y10: 65 | Z10: 82 | AA10: 112 | AB10: 96 | AC10: 72 | AD10: 63 | AE10: 103 | AF10: 96
A11: 01:00～01:30 | B11: 74 | C11: 69 | D11: 65 | E11: 82 | F11: 72 | G11: 80 | H11: 76 | I11: 79 | J11: 72 | K11: 58 | L11: 63 | M11: 86 | N11: 50 | O11: 55 | P11: 62 | Q11: 53 | R11: 58 | S11: 64 | T11: 77 | U11: 113 | V11: 98 | W11: 84 | X11: 99 | Y11: 64 | Z11: 77 | AA11: 118 | AB11: 94 | AC11: 67 | AD11: 62 | AE11: 98 | AF11: 91
A12: 01:30～02:00 | B12: 72 | C12: 72 | D12: 69 | E12: 84 | F12: 79 | G12: 81 | H12: 92 | I12: 84 | J12: 72 | K12: 55 | L12: 64 | M12: 89 | N12: 53 | O12: 55 | P12: 65 | Q12: 60 | R12: 55 | S12: 65 | T12: 84 | U12: 118 | V12: 87 | W12: 84 | X12: 84 | Y12: 63 | Z12: 76 | AA12: 103 | AB12: 89 | AC12: 72 | AD12: 60 | AE12: 101 | AF12: 84
A13: 02:00～02:30 | B13: 84 | C13: 79 | D13: 70 | E13: 79 | F13: 77 | G13: 77 | H13: 98 | I13: 86 | J13: 81 | K13: 58 | L13: 80 | M13: 81 | N13: 53 | O13: 58 | P13: 62 | Q13: 55 | R13: 58 | S13: 65 | T13: 84 | U13: 120 | V13: 93 | W13: 84 | X13: 81 | Y13: 67 | Z13: 82 | AA13: 82 | AB13: 93 | AC13: 70 | AD13: 58 | AE13: 101 | AF13: 84
A14: 02:30～03:00 | B14: 91 | C14: 84 | D14: 67 | E14: 77 | F14: 81 | G14: 79 | H14: 106 | I14: 87 | J14: 79 | K14: 60 | L14: 93 | M14: 80 | N14: 60 | O14: 62 | P14: 58 | Q14: 57 | R14: 60 | S14: 67 | T14: 96 | U14: 120 | V14: 94 | W14: 86 | X14: 92 | Y14: 74 | Z14: 86 | AA14: 86 | AB14: 96 | AC14: 72 | AD14: 62 | AE14: 98 | AF14: 87
A15: 03:00～03:30 | B15: 99 | C15: 99 | D15: 65 | E15: 88 | F15: 106 | G15: 101 | H15: 112 | I15: 88 | J15: 92 | K15: 60 | L15: 99 | M15: 88 | N15: 60 | O15: 60 | P15: 53 | Q15: 63 | R15: 55 | S15: 77 | T15: 123 | U15: 103 | V15: 98 | W15: 94 | X15: 91 | Y15: 75 | Z15: 99 | AA15: 89 | AB15: 111 | AC15: 76 | AD15: 74 | AE15: 125 | AF15: 86
A16: 03:30～04:00 | B16: 96 | C16: 96 | D16: 62 | E16: 94 | F16: 93 | G16: 110 | H16: 108 | I16: 89 | J16: 84 | K16: 64 | L16: 96 | M16: 106 | N16: 57 | O16: 58 | P16: 55 | Q16: 62 | R16: 55 | S16: 84 | T16: 146 | U16: 113 | V16: 92 | W16: 98 | X16: 96 | Y16: 74 | Z16: 98 | AA16: 89 | AB16: 105 | AC16: 77 | AD16: 96 | AE16: 118 | AF16: 91
A17: 04:00～04:30 | B17: 134 | C17: 134 | D17: 77 | E17: 132 | F17: 132 | G17: 132 | H17: 128 | I17: 120 | J17: 115 | K17: 87 | L17: 127 | M17: 127 | N17: 82 | O17: 74 | P17: 74 | Q17: 82 | R17: 82 | S17: 118 | T17: 166 | U17: 144 | V17: 120 | W17: 132 | X17: 134 | Y17: 89 | Z17: 132 | AA17: 134 | AB17: 115 | AC17: 125 | AD17: 140 | AE17: 122 | AF17: 94
A18: 04:30～05:00 | B18: 154 | C18: 144 | D18: 82 | E18: 166 | F18: 154 | G18: 154 | H18: 144 | I18: 137 | J18: 129 | K18: 101 | L18: 139 | M18: 151 | N18: 84 | O18: 91 | P18: 84 | Q18: 91 | R18: 93 | S18: 146 | T18: 156 | U18: 158 | V18: 144 | W18: 149 | X18: 163 | Y18: 103 | Z18: 161 | AA18: 161 | AB18: 130 | AC18: 149 | AD18: 151 | AE18: 151 | AF18: 96
A19: 05:00～05:30 | B19: 172 | C19: 171 | D19: 79 | E19: 175 | F19: 168 | G19: 168 | H19: 158 | I19: 151 | J19: 152 | K19: 105 | L19: 161 | M19: 168 | N19: 81 | O19: 99 | P19: 94 | Q19: 94 | R19: 99 | S19: 168 | T19: 165 | U19: 163 | V19: 170 | W19: 166 | X19: 185 | Y19: 103 | Z19: 180 | AA19: 178 | AB19: 151 | AC19: 161 | AD19: 151 | AE19: 152 | AF19: 98
A20: 05:30～06:00 | B20: 164 | C20: 172 | D20: 79 | E20: 168 | F20: 170 | G20: 161 | H20: 139 | I20: 144 | J20: 153 | K20: 91 | L20: 151 | M20: 168 | N20: 70 | O20: 98 | P20: 93 | Q20: 88 | R20: 93 | S20: 166 | T20: 156 | U20: 161 | V20: 166 | W20: 158 | X20: 175 | Y20: 87 | Z20: 178 | AA20: 170 | AB20: 147 | AC20: 160 | AD20: 146 | AE20: 136 | AF20: 91
... A56: 23:30～00:00 | B56: 86 | C56: 77 | D56: 70 | E56: 77 | F56: 82 | G56: 77 | H56: 72 | I56: 65 | J56: 65 | K56: 64 | L56: 84 | M56: 60 | N56: 53 | O56: 50 | P56: 60 | Q56: 55 | R56: 77 | S56: 84 | T56: 112 | U56: 86 | V56: 77 | W56: 91 | X56: 68 | Y56: 72 | Z56: 115 | AA56: 86 | AB56: 67 | AC56: 72 | AD56: 88 | AE56: 94 | AF56: 87
A58: 日 計 | B58: =SUM(B9:B56) -> 6146 | C58: =SUM(C9:C56) -> 5290 | D58: =SUM(D9:D56) -> 3540 | E58: =SUM(E9:E56) -> 5887 | F58: =SUM(F9:F56) -> 5009 | G58: =SUM(G9:G56) -> 4841 | H58: =SUM(H9:H56) -> 4718 | I58: =SUM(I9:I56) -> 4666 | ... AF58: =SUM(AF9:AF56) -> 4596
A59: 月 計 | B59: =SUM(B58:AF58) -> 152225
A60: 最大値 | B60: =MAX(B9:AF56) -> 199

Sheet 202510
A2: お 客 さ ま 名 | B2: 鳥取県境港水産事務所（陸送・１号上屋）
A3: ご 契 約 番 号 | B3: 2110-11135736-1
A4: 供給地点特定番号 | B4: 07-1211-1357-3610-1000-0000
A5: 実 績 年 月 | B5: 45931
B8: 09月01日(月) | C8: 09月02日(火) | D8: 09月03日(水) | E8: 09月04日(木) | F8: 09月05日(金) | G8: 09月06日(土) | H8: 09月07日(日) | I8: 09月08日(月) | J8: 09月09日(火) | K8: 09月10日(水) | L8: 09月11日(木) | M8: 09月12日(金) | N8: 09月13日(土) | O8: 09月14日(日) | P8: 09月15日(月) | Q8: 09月16日(火) | R8: 09月17日(水) | S8: 09月18日(木) | T8: 09月19日(金) | U8: 09月20日(土) | V8: 09月21日(日) | W8: 09月22日(月) | X8: 09月23日(火) | Y8: 09月24日(水) | Z8: 09月25日(木) | AA8: 09月26日(金) | AB8: 09月27日(土) | AC8: 09月28日(日) | AD8: 09月29日(月) | AE8: 09月30日(火)
A9: 00:00～00:30 | B9: 86 | C9: 120 | D9: 118 | E9: 86 | F9: 113 | G9: 128 | H9: 91 | I9: 101 | J9: 96 | K9: 134 | L9: 81 | M9: 87 | N9: 91 | O9: 81 | P9: 96 | Q9: 92 | R9: 116 | S9: 129 | T9: 125 | U9: 89 | V9: 65 | W9: 65 | X9: 55 | Y9: 77 | Z9: 103 | AA9: 98 | AB9: 94 | AC9: 72 | AD9: 101 | AE9: 93
A10: 00:30～01:00 | B10: 89 | C10: 110 | D10: 115 | E10: 84 | F10: 108 | G10: 117 | H10: 96 | I10: 117 | J10: 96 | K10: 140 | L10: 87 | M10: 96 | N10: 99 | O10: 82 | P10: 96 | Q10: 93 | R10: 117 | S10: 132 | T10: 103 | U10: 84 | V10: 50 | W10: 60 | X10: 53 | Y10: 79 | Z10: 101 | AA10: 94 | AB10: 91 | AC10: 69 | AD10: 103 | AE10: 96
A11: 01:00～01:30 | B11: 91 | C11: 110 | D11: 118 | E11: 82 | F11: 110 | G11: 108 | H11: 98 | I11: 111 | J11: 96 | K11: 144 | L11: 84 | M11: 96 | N11: 93 | O11: 86 | P11: 94 | Q11: 96 | R11: 115 | S11: 135 | T11: 106 | U11: 77 | V11: 53 | W11: 50 | X11: 50 | Y11: 75 | Z11: 99 | AA11: 94 | AB11: 94 | AC11: 70 | AD11: 108 | AE11: 94
A12: 01:30～02:00 | B12: 75 | C12: 108 | D12: 120 | E12: 91 | F12: 116 | G12: 115 | H12: 91 | I12: 110 | J12: 98 | K12: 151 | L12: 86 | M12: 96 | N12: 99 | O12: 75 | P12: 86 | Q12: 96 | R12: 118 | S12: 144 | T12: 108 | U12: 77 | V12: 57 | W12: 58 | X12: 63 | Y12: 81 | Z12: 100 | AA12: 88 | AB12: 91 | AC12: 72 | AD12: 105 | AE12: 108
A13: 02:00～02:30 | B13: 65 | C13: 113 | D13: 124 | E13: 103 | F13: 122 | G13: 118 | H13: 94 | I13: 103 | J13: 94 | K13: 151 | L13: 86 | M13: 96 | N13: 113 | O13: 74 | P13: 92 | Q13: 101 | R13: 122 | S13: 141 | T13: 108 | U13: 74 | V13: 63 | W13: 77 | X13: 62 | Y13: 89 | Z13: 116 | AA13: 92 | AB13: 94 | AC13: 74 | AD13: 106 | AE13: 98
A14: 02:30～03:00 | B14: 76 | C14: 118 | D14: 130 | E14: 116 | F14: 115 | G14: 122 | H14: 84 | I14: 96 | J14: 89 | K14: 137 | L14: 92 | M14: 105 | N14: 112 | O14: 70 | P14: 105 | Q14: 96 | R14: 128 | S14: 135 | T14: 110 | U14: 72 | V14: 62 | W14: 67 | X14: 62 | Y14: 84 | Z14: 120 | AA14: 96 | AB14: 91 | AC14: 72 | AD14: 122 | AE14: 101
A15: 03:00～03:30 | B15: 104 | C15: 127 | D15: 142 | E15: 112 | F15: 125 | G15: 116 | H15: 79 | I15: 108 | J15: 100 | K15: 137 | L15: 96 | M15: 111 | N15: 125 | O15: 77 | P15: 106 | Q15: 106 | R15: 134 | S15: 132 | T15: 108 | U15: 94 | V15: 58 | W15: 79 | X15: 58 | Y15: 87 | Z15: 115 | AA15: 117 | AB15: 101 | AC15: 75 | AD15: 137 | AE15: 99
A16: 03:30～04:00 | B16: 124 | C16: 137 | D16: 146 | E16: 118 | F16: 139 | G16: 112 | H16: 82 | I16: 132 | J16: 111 | K16: 144 | L16: 110 | M16: 120 | N16: 130 | O16: 67 | P16: 137 | Q16: 117 | R16: 144 | S16: 141 | T16: 108 | U16: 108 | V16: 62 | W16: 101 | X16: 55 | Y16: 93 | Z16: 108 | AA16: 144 | AB16: 103 | AC16: 74 | AD16: 144 | AE16: 103
A17: 04:00～04:30 | B17: 154 | C17: 153 | D17: 156 | E17: 144 | F17: 151 | G17: 130 | H17: 89 | I17: 159 | J17: 113 | K17: 146 | L17: 134 | M17: 117 | N17: 127 | O17: 62 | P17: 156 | Q17: 130 | R17: 158 | S17: 151 | T17: 120 | U17: 113 | V17: 72 | W17: 113 | X17: 55 | Y17: 101 | Z17: 120 | AA17: 161 | AB17: 120 | AC17: 67 | AD17: 135 | AE17: 108
A18: 04:30～05:00 | B18: 156 | C18: 154 | D18: 168 | E18: 158 | F18: 166 | G18: 149 | H18: 100 | I18: 158 | J18: 139 | K18: 151 | L18: 144 | M18: 135 | N18: 144 | O18: 75 | P18: 163 | Q18: 141 | R18: 161 | S18: 152 | T18: 128 | U18: 117 | V18: 75 | W18: 110 | X18: 58 | Y18: 122 | Z18: 139 | AA18: 156 | AB18: 134 | AC18: 77 | AD18: 129 | AE18: 127
A19: 05:00～05:30 | B19: 163 | C19: 154 | D19: 173 | E19: 156 | F19: 180 | G19: 158 | H19: 87 | I19: 159 | J19: 163 | K19: 163 | L19: 164 | M19: 139 | N19: 146 | O19: 91 | P19: 168 | Q19: 152 | R19: 161 | S19: 153 | T19: 136 | U19: 120 | V19: 79 | W19: 111 | X19: 53 | Y19: 130 | Z19: 151 | AA19: 151 | AB19: 137 | AC19: 82 | AD19: 130 | AE19: 132
A20: 05:30～06:00 | B20: 171 | C20: 153 | D20: 168 | E20: 152 | F20: 175 | G20: 149 | H20: 69 | I20: 148 | J20: 168 | K20: 168 | L20: 151 | M20: 132 | N20: 147 | O20: 81 | P20: 161 | Q20: 156 | R20: 151 | S20: 144 | T20: 123 | U20: 130 | V20: 77 | W20: 105 | X20: 55 | Y20: 127 | Z20: 144 | AA20: 142 | AB20: 142 | AC20: 72 | AD20: 127 | AE20: 127
... A56: 23:30～00:00 | B56: 111 | C56: 120 | D56: 91 | E56: 122 | F56: 122 | G56: 96 | H56: 101 | I56: 91 | J56: 132 | K56: 82 | L56: 81 | M56: 91 | N56: 75 | O56: 91 | P56: 91 | Q56: 122 | R56: 123 | S56: 132 | T56: 93 | U56: 70 | V56: 62 | W56: 55 | X56: 79 | Y56: 98 | Z56: 94 | AA56: 86 | AB56: 75 | AC56: 89 | AD56: 94 | AE56: 84
A58: 日 計 | B58: =SUM(B9:B56) -> 6334 | C58: =SUM(C9:C56) -> 6405 | D58: =SUM(D9:D56) -> 6377 | E58: =SUM(E9:E56) -> 6271 | F58: =SUM(F9:F56) -> 6487 | G58: =SUM(G9:G56) -> 5840 | H58: =SUM(H9:H56) -> 4334 | I58: =SUM(I9:I56) -> 6161 | ... AE58: =SUM(AE9:AE56) -> 4591
A59: 月 計 | B59: =SUM(B58:AE58) -> 160440
A60: 最大値 | B60: =MAX(B9:AE56) -> 185

Sheet 202511
A2: お 客 さ ま 名 | B2: 鳥取県境港水産事務所（陸送・１号上屋）
A3: ご 契 約 番 号 | B3: 2110-11135736-1
A4: 供給地点特定番号 | B4: 07-1211-1357-3610-1000-0000
A5: 実 績 年 月 | B5: 45962
B8: 10月01日(水) | C8: 10月02日(木) | D8: 10月03日(金) | E8: 10月04日(土) | F8: 10月05日(日) | G8: 10月06日(月) | H8: 10月07日(火) | I8: 10月08日(水) | J8: 10月09日(木) | K8: 10月10日(金) | L8: 10月11日(土) | M8: 10月12日(日) | N8: 10月13日(月) | O8: 10月14日(火) | P8: 10月15日(水) | Q8: 10月16日(木) | R8: 10月17日(金) | S8: 10月18日(土) | T8: 10月19日(日) | U8: 10月20日(月) | V8: 10月21日(火) | W8: 10月22日(水) | X8: 10月23日(木) | Y8: 10月24日(金) | Z8: 10月25日(土) | AA8: 10月26日(日) | AB8: 10月27日(月) | AC8: 10月28日(火) | AD8: 10月29日(水) | AE8: 10月30日(木) | AF8: 10月31日(金)
A9: 00:00～00:30 | B9: 82 | C9: 87 | D9: 81 | E9: 89 | F9: 58 | G9: 89 | H9: 51 | I9: 55 | J9: 105 | K9: 70 | L9: 67 | M9: 51 | N9: 58 | O9: 75 | P9: 74 | Q9: 72 | R9: 72 | S9: 55 | T9: 84 | U9: 67 | V9: 53 | W9: 48 | X9: 55 | Y9: 62 | Z9: 91 | AA9: 57 | AB9: 65 | AC9: 84 | AD9: 67 | AE9: 52 | AF9: 82
A10: 00:30～01:00 | B10: 79 | C10: 81 | D10: 77 | E10: 86 | F10: 62 | G10: 84 | H10: 50 | I10: 63 | J10: 116 | K10: 70 | L10: 68 | M10: 50 | N10: 50 | O10: 74 | P10: 82 | Q10: 62 | R10: 74 | S10: 55 | T10: 89 | U10: 77 | V10: 51 | W10: 46 | X10: 60 | Y10: 68 | Z10: 89 | AA10: 48 | AB10: 69 | AC10: 82 | AD10: 75 | AE10: 51 | AF10: 79
A11: 01:00～01:30 | B11: 84 | C11: 87 | D11: 77 | E11: 89 | F11: 67 | G11: 84 | H11: 48 | I11: 55 | J11: 110 | K11: 74 | L11: 57 | M11: 46 | N11: 48 | O11: 77 | P11: 84 | Q11: 63 | R11: 75 | S11: 50 | T11: 91 | U11: 79 | V11: 50 | W11: 43 | X11: 60 | Y11: 67 | Z11: 87 | AA11: 46 | AB11: 67 | AC11: 84 | AD11: 76 | AE11: 48 | AF11: 82
A12: 01:30～02:00 | B12: 84 | C12: 86 | D12: 79 | E12: 91 | F12: 72 | G12: 98 | H12: 51 | I12: 60 | J12: 108 | K12: 79 | L12: 51 | M12: 48 | N12: 53 | O12: 74 | P12: 81 | Q12: 74 | R12: 84 | S12: 53 | T12: 91 | U12: 89 | V12: 48 | W12: 46 | X12: 53 | Y12: 62 | Z12: 88 | AA12: 50 | AB12: 75 | AC12: 91 | AD12: 84 | AE12: 50 | AF12: 86
A13: 02:00～02:30 | B13: 81 | C13: 94 | D13: 87 | E13: 91 | F13: 60 | G13: 106 | H13: 57 | I13: 57 | J13: 98 | K13: 82 | L13: 55 | M13: 48 | N13: 53 | O13: 75 | P13: 89 | Q13: 74 | R13: 86 | S13: 58 | T13: 89 | U13: 106 | V13: 48 | W13: 45 | X13: 55 | Y13: 65 | Z13: 96 | AA13: 53 | AB13: 74 | AC13: 93 | AD13: 80 | AE13: 48 | AF13: 84
A14: 02:30～03:00 | B14: 87 | C14: 91 | D14: 108 | E14: 87 | F14: 58 | G14: 106 | H14: 60 | I14: 53 | J14: 108 | K14: 84 | L14: 69 | M14: 45 | N14: 50 | O14: 77 | P14: 94 | Q14: 70 | R14: 79 | S14: 50 | T14: 89 | U14: 96 | V14: 50 | W14: 53 | X14: 57 | Y14: 65 | Z14: 108 | AA14: 46 | AB14: 96 | AC14: 96 | AD14: 81 | AE14: 58 | AF14: 89
A15: 03:00～03:30 | B15: 84 | C15: 115 | D15: 117 | E15: 93 | F15: 62 | G15: 100 | H15: 79 | I15: 70 | J15: 116 | K15: 93 | L15: 104 | M15: 51 | N15: 48 | O15: 81 | P15: 100 | Q15: 79 | R15: 89 | S15: 58 | T15: 91 | U15: 96 | V15: 60 | W15: 65 | X15: 65 | Y15: 67 | Z15: 106 | AA15: 43 | AB15: 108 | AC15: 101 | AD15: 87 | AE15: 62 | AF15: 91
A16: 03:30～04:00 | B16: 101 | C16: 127 | D16: 120 | E16: 111 | F16: 60 | G16: 99 | H16: 106 | I16: 81 | J16: 115 | K16: 99 | L16: 110 | M16: 53 | N16: 48 | O16: 96 | P16: 99 | Q16: 108 | R16: 91 | S16: 62 | T16: 96 | U16: 100 | V16: 70 | W16: 67 | X16: 94 | Y16: 84 | Z16: 89 | AA16: 46 | AB16: 111 | AC16: 108 | AD16: 88 | AE16: 70 | AF16: 84
A17: 04:00～04:30 | B17: 124 | C17: 132 | D17: 123 | E17: 122 | F17: 60 | G17: 117 | H17: 122 | I17: 80 | J17: 108 | K17: 96 | L17: 115 | M17: 57 | N17: 46 | O17: 120 | P17: 93 | Q17: 125 | R17: 111 | S17: 79 | T17: 91 | U17: 99 | V17: 98 | W17: 96 | X17: 105 | Y17: 89 | Z17: 93 | AA17: 45 | AB17: 108 | AC17: 115 | AD17: 101 | AE17: 79 | AF17: 106
A18: 04:30～05:00 | B18: 132 | C18: 140 | D18: 144 | E18: 130 | F18: 60 | G18: 135 | H18: 111 | I18: 103 | J18: 127 | K18: 105 | L18: 127 | M18: 63 | N18: 55 | O18: 137 | P18: 104 | Q18: 127 | R18: 124 | S18: 104 | T18: 87 | U18: 110 | V18: 111 | W18: 118 | X18: 116 | Y18: 110 | Z18: 106 | AA18: 46 | AB18: 112 | AC18: 128 | AD18: 123 | AE18: 122 | AF18: 127
A19: 05:00～05:30 | B19: 135 | C19: 129 | D19: 132 | E19: 129 | F19: 60 | G19: 149 | H19: 115 | I19: 125 | J19: 125 | K19: 123 | L19: 128 | M19: 62 | N19: 60 | O19: 139 | P19: 100 | Q19: 127 | R19: 125 | S19: 139 | T19: 89 | U19: 125 | V19: 115 | W19: 117 | X19: 120 | Y19: 113 | Z19: 108 | AA19: 48 | AB19: 116 | AC19: 129 | AD19: 134 | AE19: 135 | AF19: 146
A20: 05:30～06:00 | B20: 129 | C20: 132 | D20: 122 | E20: 118 | F20: 58 | G20: 136 | H20: 118 | I20: 129 | J20: 127 | K20: 117 | L20: 122 | M20: 50 | N20: 58 | O20: 144 | P20: 94 | Q20: 120 | R20: 127 | S20: 132 | T20: 91 | U20: 122 | V20: 113 | W20: 115 | X20: 120 | Y20: 110 | Z20: 98 | AA20: 45 | AB20: 110 | AC20: 125 | AD20: 132 | AE20: 129 | AF20: 135
... A56: 23:30～00:00 | B56: 93 | C56: 70 | D56: 89 | E56: 55 | F56: 89 | G56: 57 | H56: 55 | I56: 89 | J56: 72 | K56: 65 | L56: 50 | M56: 57 | N56: 74 | O56: 68 | P56: 63 | Q56: 63 | R56: 63 | S56: 84 | T56: 55 | U56: 45 | V56: 43 | W56: 56 | X56: 62 | Y56: 77 | Z56: 58 | AA56: 63 | AB56: 84 | AC56: 65 | AD56: 48 | AE56: 79 | AF56: 72
A58: 日 計 | B58: =SUM(B9:B56) -> 5174 | C58: =SUM(C9:C56) -> 4935 | D58: =SUM(D9:D56) -> 5095 | E58: =SUM(E9:E56) -> 4512 | F58: =SUM(F9:F56) -> 3247 | G58: =SUM(G9:G56) -> 4351 | H58: =SUM(H9:H56) -> 4138 | I58: =SUM(I9:I56) -> 4697 | ... AF58: =SUM(AF9:AF56) -> 5122
A59: 月 計 | B59: =SUM(B58:AF58) -> 126257
A60: 最大値 | B60: =MAX(B9:AF56) -> 151

Sheet 202512
A2: お 客 さ ま 名 | B2: 鳥取県境港水産事務所（陸送・１号上屋）
A3: ご 契 約 番 号 | B3: 2110-11135736-1
A4: 供給地点特定番号 | B4: 07-1211-1357-3610-1000-0000
A5: 実 績 年 月 | B5: 45992
B8: 11月01日(土) | C8: 11月02日(日) | D8: 11月03日(月) | E8: 11月04日(火) | F8: 11月05日(水) | G8: 11月06日(木) | H8: 11月07日(金) | I8: 11月08日(土) | J8: 11月09日(日) | K8: 11月10日(月) | L8: 11月11日(火) | M8: 11月12日(水) | N8: 11月13日(木) | O8: 11月14日(金) | P8: 11月15日(土) | Q8: 11月16日(日) | R8: 11月17日(月) | S8: 11月18日(火) | T8: 11月19日(水) | U8: 11月20日(木) | V8: 11月21日(金) | W8: 11月22日(土) | X8: 11月23日(日) | Y8: 11月24日(月) | Z8: 11月25日(火) | AA8: 11月26日(水) | AB8: 11月27日(木) | AC8: 11月28日(金) | AD8: 11月29日(土) | AE8: 11月30日(日)
A9: 00:00～00:30 | B9: 72 | C9: 45 | D9: 68 | E9: 55 | F9: 56 | G9: 84 | H9: 130 | I9: 67 | J9: 60 | K9: 118 | L9: 58 | M9: 98 | N9: 108 | O9: 69 | P9: 70 | Q9: 50 | R9: 117 | S9: 63 | T9: 67 | U9: 63 | V9: 104 | W9: 55 | X9: 50 | Y9: 113 | Z9: 89 | AA9: 77 | AB9: 60 | AC9: 117 | AD9: 60 | AE9: 48
A10: 00:30～01:00 | B10: 72 | C10: 48 | D10: 79 | E10: 55 | F10: 57 | G10: 84 | H10: 132 | I10: 70 | J10: 65 | K10: 120 | L10: 57 | M10: 98 | N10: 94 | O10: 77 | P10: 72 | Q10: 46 | R10: 120 | S10: 57 | T10: 84 | U10: 62 | V10: 100 | W10: 53 | X10: 48 | Y10: 113 | Z10: 86 | AA10: 74 | AB10: 60 | AC10: 113 | AD10: 60 | AE10: 48
A11: 01:00～01:30 | B11: 72 | C11: 46 | D11: 72 | E11: 60 | F11: 51 | G11: 75 | H11: 124 | I11: 62 | J11: 62 | K11: 122 | L11: 60 | M11: 101 | N11: 93 | O11: 74 | P11: 67 | Q11: 46 | R11: 127 | S11: 60 | T11: 84 | U11: 62 | V11: 94 | W11: 53 | X11: 46 | Y11: 113 | Z11: 89 | AA11: 77 | AB11: 58 | AC11: 111 | AD11: 60 | AE11: 50
A12: 01:30～02:00 | B12: 72 | C12: 55 | D12: 72 | E12: 51 | F12: 48 | G12: 60 | H12: 132 | I12: 58 | J12: 68 | K12: 120 | L12: 60 | M12: 96 | N12: 99 | O12: 77 | P12: 65 | Q12: 48 | R12: 130 | S12: 60 | T12: 87 | U12: 63 | V12: 101 | W12: 48 | X12: 45 | Y12: 115 | Z12: 94 | AA12: 79 | AB12: 60 | AC12: 112 | AD12: 63 | AE12: 55
A13: 02:00～02:30 | B13: 79 | C13: 53 | D13: 84 | E13: 48 | F13: 48 | G13: 55 | H13: 130 | I13: 53 | J13: 72 | K13: 122 | L13: 70 | M13: 103 | N13: 98 | O13: 84 | P13: 72 | Q13: 50 | R13: 137 | S13: 63 | T13: 91 | U13: 65 | V13: 101 | W13: 53 | X13: 48 | Y13: 117 | Z13: 98 | AA13: 77 | AB13: 62 | AC13: 113 | AD13: 62 | AE13: 58
A14: 02:30～03:00 | B14: 82 | C14: 53 | D14: 84 | E14: 55 | F14: 48 | G14: 67 | H14: 137 | I14: 60 | J14: 79 | K14: 132 | L14: 60 | M14: 113 | N14: 106 | O14: 84 | P14: 77 | Q14: 53 | R14: 129 | S14: 50 | T14: 98 | U14: 69 | V14: 100 | W14: 55 | X14: 46 | Y14: 111 | Z14: 98 | AA14: 79 | AB14: 82 | AC14: 115 | AD14: 63 | AE14: 57
A15: 03:00～03:30 | B15: 96 | C15: 52 | D15: 91 | E15: 55 | F15: 50 | G15: 77 | H15: 137 | I15: 65 | J15: 79 | K15: 135 | L15: 72 | M15: 118 | N15: 103 | O15: 91 | P15: 86 | Q15: 45 | R15: 140 | S15: 65 | T15: 96 | U15: 77 | V15: 101 | W15: 60 | X15: 48 | Y15: 108 | Z15: 101 | AA15: 87 | AB15: 81 | AC15: 111 | AD15: 60 | AE15: 58
A16: 03:30～04:00 | B16: 117 | C16: 48 | D16: 94 | E16: 58 | F16: 60 | G16: 74 | H16: 136 | I16: 100 | J16: 77 | K16: 134 | L16: 101 | M16: 132 | N16: 113 | O16: 106 | P16: 86 | Q16: 44 | R16: 134 | S16: 60 | T16: 99 | U16: 77 | V16: 101 | W16: 60 | X16: 50 | Y16: 103 | Z16: 103 | AA16: 81 | AB16: 75 | AC16: 110 | AD16: 67 | AE16: 60
A17: 04:00～04:30 | B17: 135 | C17: 56 | D17: 88 | E17: 69 | F17: 98 | G17: 94 | H17: 147 | I17: 128 | J17: 65 | K17: 137 | L17: 117 | M17: 139 | N17: 113 | O17: 120 | P17: 108 | Q17: 45 | R17: 139 | S17: 93 | T17: 108 | U17: 89 | V17: 106 | W17: 96 | X17: 53 | Y17: 108 | Z17: 106 | AA17: 94 | AB17: 86 | AC17: 123 | AD17: 98 | AE17: 55
A18: 04:30～05:00 | B18: 134 | C18: 57 | D18: 101 | E18: 106 | F18: 135 | G18: 125 | H18: 153 | I18: 129 | J18: 64 | K18: 144 | L18: 135 | M18: 144 | N18: 129 | O18: 146 | P18: 111 | Q18: 51 | R18: 139 | S18: 128 | T18: 127 | U18: 105 | V18: 112 | W18: 125 | X18: 58 | Y18: 120 | Z18: 115 | AA18: 117 | AB18: 101 | AC18: 124 | AD18: 123 | AE18: 58
A19: 05:00～05:30 | B19: 137 | C19: 51 | D19: 106 | E19: 122 | F19: 146 | G19: 141 | H19: 161 | I19: 139 | J19: 63 | K19: 149 | L19: 139 | M19: 139 | N19: 137 | O19: 144 | P19: 113 | Q19: 52 | R19: 144 | S19: 132 | T19: 129 | U19: 111 | V19: 116 | W19: 137 | X19: 52 | Y19: 125 | Z19: 115 | AA19: 123 | AB19: 125 | AC19: 130 | AD19: 124 | AE19: 57
A20: 05:30～06:00 | B20: 137 | C20: 52 | D20: 103 | E20: 118 | F20: 139 | G20: 137 | H20: 154 | I20: 144 | J20: 60 | K20: 139 | L20: 144 | M20: 127 | N20: 139 | O20: 137 | P20: 96 | Q20: 53 | R20: 142 | S20: 122 | T20: 125 | U20: 103 | V20: 108 | W20: 132 | X20: 51 | Y20: 117 | Z20: 132 | AA20: 137 | AB20: 122 | AC20: 122 | AD20: 123 | AE20: 53
... A56: 23:30～00:00 | B56: 48 | C56: 64 | D56: 55 | E56: 50 | F56: 81 | G56: 127 | H56: 69 | I56: 57 | J56: 115 | K56: 55 | L56: 101 | M56: 113 | N56: 72 | O56: 74 | P56: 46 | Q56: 116 | R56: 65 | S56: 62 | T56: 62 | U56: 105 | V56: 48 | W56: 46 | X56: 113 | Y56: 89 | Z56: 77 | AA56: 53 | AB56: 108 | AC56: 57 | AD56: 48 | AE56: 63
A58: 日 計 | B58: =SUM(B9:B56) -> 4366 | C58: =SUM(C9:C56) -> 2584 | D58: =SUM(D9:D56) -> 4083 | E58: =SUM(E9:E56) -> 3393 | F58: =SUM(F9:F56) -> 4721 | G58: =SUM(G9:G56) -> 5165 | H58: =SUM(H9:H56) -> 6127 | I58: =SUM(I9:I56) -> 4848 | ... AE58: =SUM(AE9:AE56) -> 2736
A59: 月 計 | B59: =SUM(B58:AE58) -> 133318
A60: 最大値 | B60: =MAX(B9:AE56) -> 168

Sheet 202601
A2: お 客 さ ま 名 | B2: 鳥取県境港水産事務所（陸送・１号上屋）
A3: ご 契 約 番 号 | B3: 2110-11135736-1
A4: 供給地点特定番号 | B4: 07-1211-1357-3610-1000-0000
A5: 実 績 年 月 | B5: 46023
