Workbook

Sheet 説明
B1: 令和９年度鳥取県介護テクノロジー定着支援事業補助金要望調査票
B3: 法人名 | N3: 入力
B4: 担当者名
B5: 担当者連絡先（電話）
B6: 担当者連絡先（メール）

Sheet 仮集計
B1: 仮集計シート | E1: （単位：円）
B3: 区分 | C3: 件数 | D3: 事業費計 | E3: 補助金計
A4: Ｔ | B4: 介護テクノロジー等の導入支援 | C4: =COUNTA('T(始):T(終)'!B3) -> 0 | D4: =SUM('T(始):T(終)'!D22) -> 0 | E4: =SUM('T(始):T(終)'!J22) -> 0
A5: Ｐ | B5: 介護テクノロジーのパッケージ型導入支援 | C5: =COUNTA('P(始):P(終)'!B3) -> 0 | D5: =SUM('P(始):P(終)'!D17) -> 0 | E5: =SUM('P(始):P(終)'!G17) -> 0
B6: 計 | C6: =SUM(C4:C5) -> 0 | D6: =SUM(D4:D5) -> 0 | E6: =SUM(E4:E5) -> 0

Sheet T(始)

Sheet テクノロジー(1)
A2: 介護テクノロジー等の導入支援 要望調査票 | I2: 入力
A3: 事業所名 | I3: プルダウン選択
I4: 自動入力
A5: （１）補助対象限度台数整理（該当する場合のみ入力） ※導入目的ごと
C6: 利用定員数 | E6: 補助対象台数割合 | G6: 補助対象限度台数
A7: 施設・居宅系サービス | E7: 1/10 | G7: =ROUNDUP(C7/10,0) -> 0
A8: 在宅系サービス | E8: 1/20 | G8: =ROUNDUP(C8/20,0) -> 0
A10: （２）全体経費 | C10: ※（３）を先に入力してください。 | J10: （単位：円）
B11: 導入目的 | D11: 事業費(a) （税抜額） | E11: 補助率(b) | F11: a×b(c) | G11: 1台あたりの 基準額(d)※ | H11: 導入台数(e)※ | I11: d×e(f) | J11: 補助額(g) cとfで小さい方
A12: ア | B12: =IF(VLOOKUP(A12,$A$25:$F$84,2,0)="","",VLOOKUP(A12,$A$25:$F$84,2,0)) | D12: =E30 -> 0 | E12: 4/5 | F12: =D12*4/5 -> 0 | I12: =G12*H12 -> 0 | J12: =MIN(F12,I12) -> 0 | K12: ※1台あたりの基準額(d)欄は、基準額早見表を確認のうえ記入してください。 ※導入台数(e)欄は、主となる機器のみ計上してください。 ※介護ソフトの場合、「台」を「式」と読み替えてください。
A13: イ | B13: =IF(VLOOKUP(A13,$A$25:$F$84,2,0)="","",VLOOKUP(A13,$A$25:$F$84,2,0)) | D13: =E36 -> 0 | E13: 4/5 | F13: =D13*4/5 -> 0 | I13: =G13*H13 -> 0 | J13: =MIN(F13,I13) -> 0
A14: ウ | B14: =IF(VLOOKUP(A14,$A$25:$F$84,2,0)="","",VLOOKUP(A14,$A$25:$F$84,2,0)) | D14: =E42 -> 0 | E14: 4/5 | F14: =D14*4/5 -> 0 | I14: =G14*H14 -> 0 | J14: =MIN(F14,I14) -> 0
A15: エ | B15: =IF(VLOOKUP(A15,$A$25:$F$84,2,0)="","",VLOOKUP(A15,$A$25:$F$84,2,0)) | D15: =E48 -> 0 | E15: 4/5 | F15: =D15*4/5 -> 0 | I15: =G15*H15 -> 0 | J15: =MIN(F15,I15) -> 0
A16: オ | B16: =IF(VLOOKUP(A16,$A$25:$F$84,2,0)="","",VLOOKUP(A16,$A$25:$F$84,2,0)) | D16: =E54 -> 0 | E16: 4/5 | F16: =D16*4/5 -> 0 | I16: =G16*H16 -> 0 | J16: =MIN(F16,I16) -> 0
A17: カ | B17: =IF(VLOOKUP(A17,$A$25:$F$84,2,0)="","",VLOOKUP(A17,$A$25:$F$84,2,0)) | D17: =E60 -> 0 | E17: 3/4 | F17: =D17*3/4 -> 0 | I17: =G17*H17 -> 0 | J17: =MIN(F17,I17) -> 0
A18: キ | B18: =IF(VLOOKUP(A18,$A$25:$F$84,2,0)="","",VLOOKUP(A18,$A$25:$F$84,2,0)) | D18: =E66 -> 0 | E18: 3/4 | F18: =D18*3/4 -> 0 | I18: =G18*H18 -> 0 | J18: =MIN(F18,I18) -> 0
A19: ク | B19: =IF(VLOOKUP(A19,$A$25:$F$84,2,0)="","",VLOOKUP(A19,$A$25:$F$84,2,0)) | D19: =E72 -> 0 | E19: 3/4 | F19: =D19*3/4 -> 0 | I19: =G19*H19 -> 0 | J19: =MIN(F19,I19) -> 0
A20: ケ | B20: =IF(VLOOKUP(A20,$A$25:$F$84,2,0)="","",VLOOKUP(A20,$A$25:$F$84,2,0)) | D20: =E78 -> 0 | E20: 3/4 | F20: =D20*3/4 -> 0 | I20: =G20*H20 -> 0 | J20: =MIN(F20,I20) -> 0
A21: コ | B21: =IF(VLOOKUP(A21,$A$25:$F$84,2,0)="","",VLOOKUP(A21,$A$25:$F$84,2,0)) | D21: =E84 -> 0 | E21: 3/4 | F21: =D21*3/4 -> 0 | I21: =G21*H21 -> 0 | J21: =MIN(F21,I21) -> 0
A22: 計 | D22: =SUM(D12:D21) -> 0 | J22: =ROUNDDOWN(SUM(J12:J21),-3) -> 0
I23: ※ｇの合計：千円未満切捨て
A24: （３）導入目的別経費内訳（aの内訳） | J24: （単位：円）
A25: ア | K25: 選択
A26: 機器名 | D26: 台数 | E26: 事業費 （税抜額）
A30: 計 | E30: =SUM(E27:F29) -> 0
A31: イ | K31: 選択
A32: 機器名 | D32: 台数 | E32: 事業費 （税抜額）
A36: 計 | E36: =SUM(E33:F35) -> 0
A37: ウ | K37: 選択
A38: 機器名 | D38: 台数 | E38: 事業費 （税抜額）
A42: 計 | E42: =SUM(E39:F41) -> 0
A43: エ | K43: 選択
A44: 機器名 | D44: 台数 | E44: 事業費 （税抜額）
A48: 計 | E48: =SUM(E45:F47) -> 0
A49: オ | K49: 選択
A50: 機器名 | D50: 台数 | E50: 事業費 （税抜額）
A54: 計 | E54: =SUM(E51:F53) -> 0
A55: カ | K55: 選択
A56: 機器名 | D56: 台数 | E56: 事業費 （税抜額） | G56: 発注日※ | I56: 支払日※
A60: 計 | E60: =SUM(E57:F59) -> 0
...

Sheet テクノロジー(2)
A2: 介護テクノロジー等の導入支援 要望調査票 | I2: 入力
A3: 事業所名 | I3: プルダウン選択
I4: 自動入力
A5: （１）補助対象限度台数整理（該当する場合のみ入力） ※導入目的ごと
C6: 利用定員数 | E6: 補助対象台数割合 | G6: 補助対象限度台数
A7: 施設・居宅系サービス | E7: 1/10 | G7: =ROUNDUP(C7/10,0) -> 0
A8: 在宅系サービス | E8: 1/20 | G8: =ROUNDUP(C8/20,0) -> 0
A10: （２）全体経費 | C10: ※（３）を先に入力してください。 | J10: （単位：円）
B11: 導入目的 | D11: 事業費(a) （税抜額） | E11: 補助率(b) | F11: a×b(c) | G11: 1台あたりの 基準額(d)※ | H11: 導入台数(e)※ | I11: d×e(f) | J11: 補助額(g) cとfで小さい方
A12: ア | B12: =IF(VLOOKUP(A12,$A$25:$F$84,2,0)="","",VLOOKUP(A12,$A$25:$F$84,2,0)) | D12: =E30 -> 0 | E12: 4/5 | F12: =D12*4/5 -> 0 | I12: =G12*H12 -> 0 | J12: =MIN(F12,I12) -> 0 | K12: ※1台あたりの基準額(d)欄は、基準額早見表を確認のうえ記入してください。 ※導入台数(e)欄は、主となる機器のみ計上してください。 ※介護ソフトの場合、「台」を「式」と読み替えてください。
A13: イ | B13: =IF(VLOOKUP(A13,$A$25:$F$84,2,0)="","",VLOOKUP(A13,$A$25:$F$84,2,0)) | D13: =E36 -> 0 | E13: 4/5 | F13: =D13*4/5 -> 0 | I13: =G13*H13 -> 0 | J13: =MIN(F13,I13) -> 0
A14: ウ | B14: =IF(VLOOKUP(A14,$A$25:$F$84,2,0)="","",VLOOKUP(A14,$A$25:$F$84,2,0)) | D14: =E42 -> 0 | E14: 4/5 | F14: =D14*4/5 -> 0 | I14: =G14*H14 -> 0 | J14: =MIN(F14,I14) -> 0
A15: エ | B15: =IF(VLOOKUP(A15,$A$25:$F$84,2,0)="","",VLOOKUP(A15,$A$25:$F$84,2,0)) | D15: =E48 -> 0 | E15: 4/5 | F15: =D15*4/5 -> 0 | I15: =G15*H15 -> 0 | J15: =MIN(F15,I15) -> 0
A16: オ | B16: =IF(VLOOKUP(A16,$A$25:$F$84,2,0)="","",VLOOKUP(A16,$A$25:$F$84,2,0)) | D16: =E54 -> 0 | E16: 4/5 | F16: =D16*4/5 -> 0 | I16: =G16*H16 -> 0 | J16: =MIN(F16,I16) -> 0
A17: カ | B17: =IF(VLOOKUP(A17,$A$25:$F$84,2,0)="","",VLOOKUP(A17,$A$25:$F$84,2,0)) | D17: =E60 -> 0 | E17: 3/4 | F17: =D17*3/4 -> 0 | I17: =G17*H17 -> 0 | J17: =MIN(F17,I17) -> 0
A18: キ | B18: =IF(VLOOKUP(A18,$A$25:$F$84,2,0)="","",VLOOKUP(A18,$A$25:$F$84,2,0)) | D18: =E66 -> 0 | E18: 3/4 | F18: =D18*3/4 -> 0 | I18: =G18*H18 -> 0 | J18: =MIN(F18,I18) -> 0
A19: ク | B19: =IF(VLOOKUP(A19,$A$25:$F$84,2,0)="","",VLOOKUP(A19,$A$25:$F$84,2,0)) | D19: =E72 -> 0 | E19: 3/4 | F19: =D19*3/4 -> 0 | I19: =G19*H19 -> 0 | J19: =MIN(F19,I19) -> 0
A20: ケ | B20: =IF(VLOOKUP(A20,$A$25:$F$84,2,0)="","",VLOOKUP(A20,$A$25:$F$84,2,0)) | D20: =E78 -> 0 | E20: 3/4 | F20: =D20*3/4 -> 0 | I20: =G20*H20 -> 0 | J20: =MIN(F20,I20) -> 0
A21: コ | B21: =IF(VLOOKUP(A21,$A$25:$F$84,2,0)="","",VLOOKUP(A21,$A$25:$F$84,2,0)) | D21: =E84 -> 0 | E21: 3/4 | F21: =D21*3/4 -> 0 | I21: =G21*H21 -> 0 | J21: =MIN(F21,I21) -> 0
A22: 計 | D22: =SUM(D12:D21) -> 0 | J22: =ROUNDDOWN(SUM(J12:J21),-3) -> 0
I23: ※ｇの合計：千円未満切捨て
A24: （３）導入目的別経費内訳（aの内訳） | J24: （単位：円）
A25: ア | K25: 選択
A26: 機器名 | D26: 台数 | E26: 事業費 （税抜額）
A30: 計 | E30: =SUM(E27:F29) -> 0
A31: イ | K31: 選択
A32: 機器名 | D32: 台数 | E32: 事業費 （税抜額）
A36: 計 | E36: =SUM(E33:F35) -> 0
A37: ウ | K37: 選択
A38: 機器名 | D38: 台数 | E38: 事業費 （税抜額）
A42: 計 | E42: =SUM(E39:F41) -> 0
A43: エ | K43: 選択
A44: 機器名 | D44: 台数 | E44: 事業費 （税抜額）
A48: 計 | E48: =SUM(E45:F47) -> 0
A49: オ | K49: 選択
A50: 機器名 | D50: 台数 | E50: 事業費 （税抜額）
A54: 計 | E54: =SUM(E51:F53) -> 0
A55: カ | K55: 選択
A56: 機器名 | D56: 台数 | E56: 事業費 （税抜額） | G56: 発注日※ | I56: 支払日※
A60: 計 | E60: =SUM(E57:F59) -> 0
...

Sheet テクノロジー(3)
A2: 介護テクノロジー等の導入支援 要望調査票 | I2: 入力
A3: 事業所名 | I3: プルダウン選択
I4: 自動入力
A5: （１）補助対象限度台数整理（該当する場合のみ入力） ※導入目的ごと
C6: 利用定員数 | E6: 補助対象台数割合 | G6: 補助対象限度台数
A7: 施設・居宅系サービス | E7: 1/10 | G7: =ROUNDUP(C7/10,0) -> 0
A8: 在宅系サービス | E8: 1/20 | G8: =ROUNDUP(C8/20,0) -> 0
A10: （２）全体経費 | C10: ※（３）を先に入力してください。 | J10: （単位：円）
B11: 導入目的 | D11: 事業費(a) （税抜額） | E11: 補助率(b) | F11: a×b(c) | G11: 1台あたりの 基準額(d)※ | H11: 導入台数(e)※ | I11: d×e(f) | J11: 補助額(g) cとfで小さい方
A12: ア | B12: =IF(VLOOKUP(A12,$A$25:$F$84,2,0)="","",VLOOKUP(A12,$A$25:$F$84,2,0)) | D12: =E30 -> 0 | E12: 4/5 | F12: =D12*4/5 -> 0 | I12: =G12*H12 -> 0 | J12: =MIN(F12,I12) -> 0 | K12: ※1台あたりの基準額(d)欄は、基準額早見表を確認のうえ記入してください。 ※導入台数(e)欄は、主となる機器のみ計上してください。 ※介護ソフトの場合、「台」を「式」と読み替えてください。
A13: イ | B13: =IF(VLOOKUP(A13,$A$25:$F$84,2,0)="","",VLOOKUP(A13,$A$25:$F$84,2,0)) | D13: =E36 -> 0 | E13: 4/5 | F13: =D13*4/5 -> 0 | I13: =G13*H13 -> 0 | J13: =MIN(F13,I13) -> 0
A14: ウ | B14: =IF(VLOOKUP(A14,$A$25:$F$84,2,0)="","",VLOOKUP(A14,$A$25:$F$84,2,0)) | D14: =E42 -> 0 | E14: 4/5 | F14: =D14*4/5 -> 0 | I14: =G14*H14 -> 0 | J14: =MIN(F14,I14) -> 0
A15: エ | B15: =IF(VLOOKUP(A15,$A$25:$F$84,2,0)="","",VLOOKUP(A15,$A$25:$F$84,2,0)) | D15: =E48 -> 0 | E15: 4/5 | F15: =D15*4/5 -> 0 | I15: =G15*H15 -> 0 | J15: =MIN(F15,I15) -> 0
A16: オ | B16: =IF(VLOOKUP(A16,$A$25:$F$84,2,0)="","",VLOOKUP(A16,$A$25:$F$84,2,0)) | D16: =E54 -> 0 | E16: 4/5 | F16: =D16*4/5 -> 0 | I16: =G16*H16 -> 0 | J16: =MIN(F16,I16) -> 0
A17: カ | B17: =IF(VLOOKUP(A17,$A$25:$F$84,2,0)="","",VLOOKUP(A17,$A$25:$F$84,2,0)) | D17: =E60 -> 0 | E17: 3/4 | F17: =D17*3/4 -> 0 | I17: =G17*H17 -> 0 | J17: =MIN(F17,I17) -> 0
A18: キ | B18: =IF(VLOOKUP(A18,$A$25:$F$84,2,0)="","",VLOOKUP(A18,$A$25:$F$84,2,0)) | D18: =E66 -> 0 | E18: 3/4 | F18: =D18*3/4 -> 0 | I18: =G18*H18 -> 0 | J18: =MIN(F18,I18) -> 0
A19: ク | B19: =IF(VLOOKUP(A19,$A$25:$F$84,2,0)="","",VLOOKUP(A19,$A$25:$F$84,2,0)) | D19: =E72 -> 0 | E19: 3/4 | F19: =D19*3/4 -> 0 | I19: =G19*H19 -> 0 | J19: =MIN(F19,I19) -> 0
A20: ケ | B20: =IF(VLOOKUP(A20,$A$25:$F$84,2,0)="","",VLOOKUP(A20,$A$25:$F$84,2,0)) | D20: =E78 -> 0 | E20: 3/4 | F20: =D20*3/4 -> 0 | I20: =G20*H20 -> 0 | J20: =MIN(F20,I20) -> 0
A21: コ | B21: =IF(VLOOKUP(A21,$A$25:$F$84,2,0)="","",VLOOKUP(A21,$A$25:$F$84,2,0)) | D21: =E84 -> 0 | E21: 3/4 | F21: =D21*3/4 -> 0 | I21: =G21*H21 -> 0 | J21: =MIN(F21,I21) -> 0
A22: 計 | D22: =SUM(D12:D21) -> 0 | J22: =ROUNDDOWN(SUM(J12:J21),-3) -> 0
I23: ※ｇの合計：千円未満切捨て
A24: （３）導入目的別経費内訳（aの内訳） | J24: （単位：円）
A25: ア | K25: 選択
A26: 機器名 | D26: 台数 | E26: 事業費 （税抜額）
A30: 計 | E30: =SUM(E27:F29) -> 0
A31: イ | K31: 選択
A32: 機器名 | D32: 台数 | E32: 事業費 （税抜額）
A36: 計 | E36: =SUM(E33:F35) -> 0
A37: ウ | K37: 選択
A38: 機器名 | D38: 台数 | E38: 事業費 （税抜額）
A42: 計 | E42: =SUM(E39:F41) -> 0
A43: エ | K43: 選択
A44: 機器名 | D44: 台数 | E44: 事業費 （税抜額）
A48: 計 | E48: =SUM(E45:F47) -> 0
A49: オ | K49: 選択
A50: 機器名 | D50: 台数 | E50: 事業費 （税抜額）
A54: 計 | E54: =SUM(E51:F53) -> 0
A55: カ | K55: 選択
A56: 機器名 | D56: 台数 | E56: 事業費 （税抜額） | G56: 発注日※ | I56: 支払日※
A60: 計 | E60: =SUM(E57:F59) -> 0
...

Sheet T(終)

Sheet P(始)

Sheet パッケージ(1)
A2: 介護テクノロジーのパッケージ型導入支援 所要（精算）額調書 | I2: 入力
A3: 事業所名 | I3: プルダウン選択
I4: 自動入力
A5: （１）全体経費 | C5: ※（２）を先に入力してください。 | H5: （単位：円）
B6: 導入目的 ※介護業務支援必須 | D6: 事業費(a) （税抜額） | F6: 補助率(b) | G6: 補助額 a×b(c)
A7: ア | B7: ⑬介護業務支援 | D7: =E25 -> 0 | F7: 4/5 | G7: =D7*4/5 -> 0
A8: イ | B8: =IF(VLOOKUP(A8,$A$20:$F$79,2,0)="","",VLOOKUP(A8,$A$20:$F$79,2,0)) | D8: =E31 -> 0 | F8: 4/5 | G8: =D8*4/5 -> 0
A9: ウ | B9: =IF(VLOOKUP(A9,$A$20:$F$79,2,0)="","",VLOOKUP(A9,$A$20:$F$79,2,0)) | D9: =E37 -> 0 | F9: 4/5 | G9: =D9*4/5 -> 0
A10: エ | B10: =IF(VLOOKUP(A10,$A$20:$F$79,2,0)="","",VLOOKUP(A10,$A$20:$F$79,2,0)) | D10: =E43 -> 0 | F10: 4/5 | G10: =D10*4/5 -> 0
A11: オ | B11: =IF(VLOOKUP(A11,$A$20:$F$79,2,0)="","",VLOOKUP(A11,$A$20:$F$79,2,0)) | D11: =E49 -> 0 | F11: 4/5 | G11: =D11*4/5 -> 0
A12: カ | B12: =IF(VLOOKUP(A12,$A$20:$F$79,2,0)="","",VLOOKUP(A12,$A$20:$F$79,2,0)) | D12: =E55 -> 0 | F12: 3/4 | G12: =D12*3/4 -> 0
A13: キ | B13: =IF(VLOOKUP(A13,$A$20:$F$79,2,0)="","",VLOOKUP(A13,$A$20:$F$79,2,0)) | D13: =E61 -> 0 | F13: 3/4 | G13: =D13*3/4 -> 0
A14: ク | B14: =IF(VLOOKUP(A14,$A$20:$F$79,2,0)="","",VLOOKUP(A14,$A$20:$F$79,2,0)) | D14: =E67 -> 0 | F14: 3/4 | G14: =D14*3/4 -> 0
A15: ケ | B15: =IF(VLOOKUP(A15,$A$20:$F$79,2,0)="","",VLOOKUP(A15,$A$20:$F$79,2,0)) | D15: =E73 -> 0 | F15: 3/4 | G15: =D15*4/5 -> 0
A16: コ | B16: =IF(VLOOKUP(A16,$A$20:$F$79,2,0)="","",VLOOKUP(A16,$A$20:$F$79,2,0)) | D16: =E79 -> 0 | F16: 3/4 | G16: =D11*3/4 -> 0
A17: 計 | D17: =SUM(D7:E16) -> 0 | G17: =IF(SUM(G7:H16)>=10000000,10000000,ROUNDDOWN(SUM(G7:H16),-3)) -> 0
G18: ※cの合計：千円未満の端数切捨て、上限1,000万円
A19: （２）導入目的別経費内訳（aの内訳）
A20: ア | B20: ⑬介護業務支援 | K20: 選択
A21: 機器名 | D21: 台数 | E21: 事業費 （税抜額）
A25: 計 | E25: =SUM(E22:F24) -> 0
A26: イ | K26: 選択
A27: 機器名 | D27: 台数 | E27: 事業費 （税抜額）
A31: 計 | E31: =SUM(E28:F30) -> 0
A32: ウ | K32: 選択
A33: 機器名 | D33: 台数 | E33: 事業費 （税抜額）
A37: 計 | E37: =SUM(E34:F36) -> 0
A38: エ | K38: 選択
A39: 機器名 | D39: 台数 | E39: 事業費 （税抜額）
A43: 計 | E43: =SUM(E40:F42) -> 0
A44: オ | K44: 選択
A45: 機器名 | D45: 台数 | E45: 事業費 （税抜額）
A49: 計 | E49: =SUM(E46:F48) -> 0
A50: カ | K50: 選択
A51: 機器名 | D51: 台数 | E51: 事業費 （税抜額） | G51: 発注日※ | I51: 支払日※
A55: 計 | E55: =SUM(E52:F54) -> 0
A56: キ | K56: 選択
A57: 機器名 | D57: 台数 | E57: 事業費 （税抜額） | G57: 発注日※ | I57: 支払日※
A61: 計 | E61: =SUM(E58:F60) -> 0
A62: ク | K62: 選択
...

Sheet パッケージ(2)
A2: 介護テクノロジーのパッケージ型導入支援 所要（精算）額調書 | I2: 入力
A3: 事業所名 | I3: プルダウン選択
I4: 自動入力
A5: （１）全体経費 | C5: ※（２）を先に入力してください。 | H5: （単位：円）
B6: 導入目的 ※介護業務支援必須 | D6: 事業費(a) （税抜額） | F6: 補助率(b) | G6: 補助額 a×b(c)
A7: ア | B7: ⑬介護業務支援 | D7: =E25 -> 0 | F7: 4/5 | G7: =D7*4/5 -> 0
A8: イ | B8: =IF(VLOOKUP(A8,$A$20:$F$79,2,0)="","",VLOOKUP(A8,$A$20:$F$79,2,0)) | D8: =E31 -> 0 | F8: 4/5 | G8: =D8*4/5 -> 0
A9: ウ | B9: =IF(VLOOKUP(A9,$A$20:$F$79,2,0)="","",VLOOKUP(A9,$A$20:$F$79,2,0)) | D9: =E37 -> 0 | F9: 4/5 | G9: =D9*4/5 -> 0
A10: エ | B10: =IF(VLOOKUP(A10,$A$20:$F$79,2,0)="","",VLOOKUP(A10,$A$20:$F$79,2,0)) | D10: =E43 -> 0 | F10: 4/5 | G10: =D10*4/5 -> 0
A11: オ | B11: =IF(VLOOKUP(A11,$A$20:$F$79,2,0)="","",VLOOKUP(A11,$A$20:$F$79,2,0)) | D11: =E49 -> 0 | F11: 4/5 | G11: =D11*4/5 -> 0
A12: カ | B12: =IF(VLOOKUP(A12,$A$20:$F$79,2,0)="","",VLOOKUP(A12,$A$20:$F$79,2,0)) | D12: =E55 -> 0 | F12: 3/4 | G12: =D12*3/4 -> 0
A13: キ | B13: =IF(VLOOKUP(A13,$A$20:$F$79,2,0)="","",VLOOKUP(A13,$A$20:$F$79,2,0)) | D13: =E61 -> 0 | F13: 3/4 | G13: =D13*3/4 -> 0
A14: ク | B14: =IF(VLOOKUP(A14,$A$20:$F$79,2,0)="","",VLOOKUP(A14,$A$20:$F$79,2,0)) | D14: =E67 -> 0 | F14: 3/4 | G14: =D14*3/4 -> 0
A15: ケ | B15: =IF(VLOOKUP(A15,$A$20:$F$79,2,0)="","",VLOOKUP(A15,$A$20:$F$79,2,0)) | D15: =E73 -> 0 | F15: 3/4 | G15: =D15*4/5 -> 0
A16: コ | B16: =IF(VLOOKUP(A16,$A$20:$F$79,2,0)="","",VLOOKUP(A16,$A$20:$F$79,2,0)) | D16: =E79 -> 0 | F16: 3/4 | G16: =D11*3/4 -> 0
A17: 計 | D17: =SUM(D7:E16) -> 0 | G17: =IF(SUM(G7:H16)>=10000000,10000000,ROUNDDOWN(SUM(G7:H16),-3)) -> 0
G18: ※cの合計：千円未満の端数切捨て、上限1,000万円
A19: （２）導入目的別経費内訳（aの内訳）
A20: ア | B20: ⑬介護業務支援 | K20: 選択
A21: 機器名 | D21: 台数 | E21: 事業費 （税抜額）
A25: 計 | E25: =SUM(E22:F24) -> 0
A26: イ | K26: 選択
A27: 機器名 | D27: 台数 | E27: 事業費 （税抜額）
A31: 計 | E31: =SUM(E28:F30) -> 0
A32: ウ | K32: 選択
A33: 機器名 | D33: 台数 | E33: 事業費 （税抜額）
A37: 計 | E37: =SUM(E34:F36) -> 0
A38: エ | K38: 選択
A39: 機器名 | D39: 台数 | E39: 事業費 （税抜額）
A43: 計 | E43: =SUM(E40:F42) -> 0
A44: オ | K44: 選択
A45: 機器名 | D45: 台数 | E45: 事業費 （税抜額）
A49: 計 | E49: =SUM(E46:F48) -> 0
A50: カ | K50: 選択
A51: 機器名 | D51: 台数 | E51: 事業費 （税抜額） | G51: 発注日※ | I51: 支払日※
A55: 計 | E55: =SUM(E52:F54) -> 0
A56: キ | K56: 選択
A57: 機器名 | D57: 台数 | E57: 事業費 （税抜額） | G57: 発注日※ | I57: 支払日※
A61: 計 | E61: =SUM(E58:F60) -> 0
A62: ク | K62: 選択
...

Sheet パッケージ(3)
A2: 介護テクノロジーのパッケージ型導入支援 所要（精算）額調書 | I2: 入力
A3: 事業所名 | I3: プルダウン選択
I4: 自動入力
A5: （１）全体経費 | C5: ※（２）を先に入力してください。 | H5: （単位：円）
B6: 導入目的 ※介護業務支援必須 | D6: 事業費(a) （税抜額） | F6: 補助率(b) | G6: 補助額 a×b(c)
A7: ア | B7: ⑬介護業務支援 | D7: =E25 -> 0 | F7: 4/5 | G7: =D7*4/5 -> 0
A8: イ | B8: =IF(VLOOKUP(A8,$A$20:$F$79,2,0)="","",VLOOKUP(A8,$A$20:$F$79,2,0)) | D8: =E31 -> 0 | F8: 4/5 | G8: =D8*4/5 -> 0
A9: ウ | B9: =IF(VLOOKUP(A9,$A$20:$F$79,2,0)="","",VLOOKUP(A9,$A$20:$F$79,2,0)) | D9: =E37 -> 0 | F9: 4/5 | G9: =D9*4/5 -> 0
A10: エ | B10: =IF(VLOOKUP(A10,$A$20:$F$79,2,0)="","",VLOOKUP(A10,$A$20:$F$79,2,0)) | D10: =E43 -> 0 | F10: 4/5 | G10: =D10*4/5 -> 0
A11: オ | B11: =IF(VLOOKUP(A11,$A$20:$F$79,2,0)="","",VLOOKUP(A11,$A$20:$F$79,2,0)) | D11: =E49 -> 0 | F11: 4/5 | G11: =D11*4/5 -> 0
A12: カ | B12: =IF(VLOOKUP(A12,$A$20:$F$79,2,0)="","",VLOOKUP(A12,$A$20:$F$79,2,0)) | D12: =E55 -> 0 | F12: 3/4 | G12: =D12*3/4 -> 0
A13: キ | B13: =IF(VLOOKUP(A13,$A$20:$F$79,2,0)="","",VLOOKUP(A13,$A$20:$F$79,2,0)) | D13: =E61 -> 0 | F13: 3/4 | G13: =D13*3/4 -> 0
A14: ク | B14: =IF(VLOOKUP(A14,$A$20:$F$79,2,0)="","",VLOOKUP(A14,$A$20:$F$79,2,0)) | D14: =E67 -> 0 | F14: 3/4 | G14: =D14*3/4 -> 0
A15: ケ | B15: =IF(VLOOKUP(A15,$A$20:$F$79,2,0)="","",VLOOKUP(A15,$A$20:$F$79,2,0)) | D15: =E73 -> 0 | F15: 3/4 | G15: =D15*4/5 -> 0
A16: コ | B16: =IF(VLOOKUP(A16,$A$20:$F$79,2,0)="","",VLOOKUP(A16,$A$20:$F$79,2,0)) | D16: =E79 -> 0 | F16: 3/4 | G16: =D11*3/4 -> 0
A17: 計 | D17: =SUM(D7:E16) -> 0 | G17: =IF(SUM(G7:H16)>=10000000,10000000,ROUNDDOWN(SUM(G7:H16),-3)) -> 0
G18: ※cの合計：千円未満の端数切捨て、上限1,000万円
A19: （２）導入目的別経費内訳（aの内訳）
A20: ア | B20: ⑬介護業務支援 | K20: 選択
A21: 機器名 | D21: 台数 | E21: 事業費 （税抜額）
A25: 計 | E25: =SUM(E22:F24) -> 0
A26: イ | K26: 選択
A27: 機器名 | D27: 台数 | E27: 事業費 （税抜額）
A31: 計 | E31: =SUM(E28:F30) -> 0
A32: ウ | K32: 選択
A33: 機器名 | D33: 台数 | E33: 事業費 （税抜額）
A37: 計 | E37: =SUM(E34:F36) -> 0
A38: エ | K38: 選択
A39: 機器名 | D39: 台数 | E39: 事業費 （税抜額）
A43: 計 | E43: =SUM(E40:F42) -> 0
A44: オ | K44: 選択
A45: 機器名 | D45: 台数 | E45: 事業費 （税抜額）
A49: 計 | E49: =SUM(E46:F48) -> 0
A50: カ | K50: 選択
A51: 機器名 | D51: 台数 | E51: 事業費 （税抜額） | G51: 発注日※ | I51: 支払日※
A55: 計 | E55: =SUM(E52:F54) -> 0
A56: キ | K56: 選択
A57: 機器名 | D57: 台数 | E57: 事業費 （税抜額） | G57: 発注日※ | I57: 支払日※
A61: 計 | E61: =SUM(E58:F60) -> 0
A62: ク | K62: 選択
...

Sheet P(終)

Sheet ※基準額早見表※
A1: 基準額早見表（介護テクノロジー等の導入支援）
A2: 区分 | H2: 基準額（円）
A3: 別表１第４欄 ア | B3: ①移乗支援（装着） | H3: 1000000 | I3: 1台あたり
B4: ②移乗支援（非装着） | H4: 1000000 | I4: 1台あたり
B5: ③移動支援（屋外） | H5: 300000 | I5: 1台あたり
B6: ④移動支援（屋内） | H6: 300000 | I6: 1台あたり
B7: ⑤移動支援（装着） | H7: 300000 | I7: 1台あたり
B8: ⑥排泄支援（排泄予測・検知） | H8: 300000 | I8: 1台あたり
B9: ⑦排泄支援（排泄物処理） | H9: 300000 | I9: 1台あたり
B10: ⑧排泄支援（動作支援） | H10: 300000 | I10: 1台あたり
B11: ⑨入浴支援 | H11: 1000000 | I11: 1台あたり
B12: ⑩見守り・コミュニケーション（見守り（施設）） | H12: 300000 | I12: 1台あたり
B13: ⑪見守り・コミュニケーション（見守り（在宅）） | H13: 300000 | I13: 1台あたり
B14: ⑫見守り・コミュニケーション（コミュニケーション） | H14: 300000 | I14: 1台あたり
B15: ⑬介護業務支援 | C15: 介護ソフト | D15: 介護ソフト単体での導入 | E15: 職員数により合計金額が変動する契約 | F15: 居宅サービス事業所又は居宅介護支援事業所（介護予防も含む）であって、令和8年度中に「ケアプランデータ連携システム」により5事業所以上とデータ連携を実施する場合 | G15: 職員数が1～10名 | H15: 1050000 | I15: 1式あたり
G16: 職員数が11～20名 | H16: 1550000 | I16: 1式あたり
G17: 職員数が21～30名 | H17: 2050000 | I17: 1式あたり
G18: 職員数が31名以上 | H18: 2550000 | I18: 1式あたり
F19: 上記以外の場合 | G19: 職員数が1～10名 | H19: 1000000 | I19: 1式あたり
G20: 職員数が11～20名 | H20: 1500000 | I20: 1式あたり
G21: 職員数が21～30名 | H21: 2000000 | I21: 1式あたり
G22: 職員数が31名以上 | H22: 2500000 | I22: 1式あたり
E23: 上記以外の方式の契約 | F23: 居宅サービス事業所又は居宅介護支援事業所（介護予防も含む）であって、令和8年度中に「ケアプランデータ連携システム」により5事業所以上とデータ連携を実施する場合 | H23: 2550000 | I23: 1式あたり
F24: 上記以外の場合 | H24: 2500000 | I24: 1式あたり
D25: 介護ソフトの導入に伴い、一体的に使用するためのタブレット端末の購入やWi-Fi環境整備を行う場合 | E25: 職員数により合計金額が変動する契約 | F25: 居宅サービス事業所又は居宅介護支援事業所（介護予防も含む）であって、令和8年度中に「ケアプランデータ連携システム」により5事業所以上とデータ連携を実施する場合 | G25: 職員数が1～10名 | H25: 1200000 | I25: 1式あたり
G26: 職員数が11～20名 | H26: 1700000 | I26: 1式あたり
G27: 職員数が21～30名 | H27: 2200000 | I27: 1式あたり
G28: 職員数が31名以上 | H28: 2700000 | I28: 1式あたり
F29: 上記以外の場合 | G29: 職員数が1～10名 | H29: 1150000 | I29: 1式あたり
G30: 職員数が11～20名 | H30: 1650000 | I30: 1式あたり
G31: 職員数が21～30名 | H31: 2150000 | I31: 1式あたり
G32: 職員数が31名以上 | H32: 2650000 | I32: 1式あたり
E33: 上記以外の方式の契約 | F33: 居宅サービス事業所又は居宅介護支援事業所（介護予防も含む）であって、令和8年度中に「ケアプランデータ連携システム」により5事業所以上とデータ連携を実施する場合 | H33: 2700000 | I33: 1式あたり
F34: 上記以外の場合 | H34: 2650000 | I34: 1式あたり
C35: インカム | H35: 1000000 | I35: 1台あたり
C36: 介護ソフト、インカム以外 | H36: 300000 | I36: 1台あたり
B37: ⑭機能訓練支援 | H37: 300000 | I37: 1台あたり
B38: ⑮食事・栄養管理支援 | H38: 300000 | I38: 1台あたり
B39: ⑯認知症生活支援・認知症ケア支援 | H39: 300000 | I39: 1台あたり
A40: 別表１第４欄 イ | B40: ⑰その他 | C40: バックオフィスソフト | E40: 職員数により合計金額が変動する契約 | F40: 居宅サービス事業所又は居宅介護支援事業所（介護予防も含む）であって、令和8年度中に「ケアプランデータ連携システム」により5事業所以上とデータ連携を実施する場合 | G40: 職員数が1～10名 | H40: 1050000 | I40: 1式あたり
...

Sheet データセット
A1: 都道府県 | B1: 取組 | C1: サービス種別 | D1: 職員数 | E1: 利用者数 | F1: ケアプー | G1: セキュリティアクション | H1: 介護ソフト
A2: 01北海道 | B2: ○ | C2: 110_訪問介護 | D2: 1～10名 | E2: 1～10名 | F2: ケアプランデータ連携システム | G2: 「★一つ星」又は「★★二つ星」のいずれかを宣言している | H2: ア 新規導入 | M2: 利用申請を行っている
A3: 02青森県 | B3: - | C3: 120_訪問入浴介護 | D3: 11～20名 | E3: 11～20名 | F3: その他厚労省が認めたシステム | G3: 宣言していない | H3: イ 導入済（転記不要とするための改修） | M3: 利用申請を行っていない | Q3: ①移乗支援（装着）
A4: 03岩手県 | C4: 130_訪問看護 | D4: 21～30名 | E4: 21～30名 | F4: 利用していない | H4: ウ 導入済（ケアプラン標準仕様・LIFE標準仕様に対応するための改修） | I4: 講じている | Q4: ②移乗支援（非装着）
A5: 04宮城県 | B5: ● | C5: 140_訪問リハビリテーション | D5: 31名～ | E5: 31～40名 | H5: エ 機能追加 | I5: 講じている | Q5: ③移動支援（屋外）
A6: 05秋田県 | B6: ○ | C6: 150_通所介護 | E6: 41～50名 | G6: 周知している | N6: １～５０ | Q6: ④移動支援（屋内）
A7: 06山形県 | B7: - | C7: 155_通所介護（療養通所介護） | E7: 51～60名 | G7: 周知していない | N7: ５１～１００ | Q7: ⑤移動支援（装着）
A8: 07福島県 | C8: 160_通所リハビリテーション | E8: 61名～70名 | N8: １０１～１５０ | Q8: ⑥排泄支援（排泄予測・検知）
A9: 08茨城県 | C9: 170_福祉用具貸与 | E9: 71名～80名 | G9: 居宅サービス計画書 | N9: １５１～２００ | Q9: ⑦排泄支援（排泄物処理）
A10: 09栃木県 | C10: 210_短期入所生活介護 | E10: 81名～90名 | G10: サービス利用票 | N10: ２０１～２５０ | Q10: ⑧排泄支援（動作支援）
A11: 10群馬県 | C11: 220_短期入所療養介護（介護老人保健施設） | E11: 91名～100名 | G11: 居宅サービス計画書とサービス利用票のどちらも | N11: ２５１～３００ | Q11: ⑨入浴支援
A12: 11埼玉県 | C12: 230_短期入所療養介護（介護療養型医療施設） | E12: 101名～ | N12: ３０１～３５０ | Q12: ⑩見守り・コミュニケーション（見守り（施設））
A13: 12千葉県 | C13: 551_短期入所療養介護（介護医療院） | N13: ３５１～４００ | Q13: ⑪見守り・コミュニケーション（見守り（在宅））
A14: 13東京都 | C14: 310_居宅療養管理指導 | N14: ４０１～４５０ | Q14: ⑫見守り・コミュニケーション（コミュニケーション）
A15: 14神奈川県 | C15: 320_認知症対応型共同生活介護 | N15: ４５１～５００ | Q15: ⑬介護業務支援
A16: 15新潟県 | C16: 331_特定施設入居者生活介護（有料老人ホーム） | N16: ５０１～ | Q16: ⑭機能訓練支援
A17: 16富山県 | C17: 332_特定施設入居者生活介護（軽費老人ホーム） | Q17: ⑮食事・栄養管理支援
A18: 17石川県 | C18: 333_特定施設入居者生活介護（養護老人ホーム） | Q18: ⑯認知症生活支援・認知症ケア支援
A19: 18福井県 | C19: 334_特定施設入居者生活介護（サービス付き高齢者向け住宅） | Q19: ⑰その他
A20: 19山梨県 | C20: 335_特定施設入居者生活介護（有料老人ホーム・外部サービス利用型）
A21: 20長野県 | C21: 336_特定施設入居者生活介護（軽費老人ホーム・外部サービス利用型）
A22: 21岐阜県 | C22: 337_特定施設入居者生活介護（サービス付き高齢者向け住宅・外部サービス利用型）
A23: 22静岡県 | C23: 338_特定施設入居者生活介護（養護老人ホーム・外部サービス利用型）
A24: 23愛知県 | C24: 361_地域密着型特定施設入居者生活介護（有料老人ホーム）
A25: 24三重県 | C25: 362_地域密着型特定施設入居者生活介護（軽費老人ホーム）
A26: 25滋賀県 | C26: 363_地域密着型特定施設入居者生活介護（養護老人ホーム）
A27: 26京都府 | C27: 364_地域密着型特定施設入居者生活介護（サービス付き高齢者向け住宅）
A28: 27大阪府 | C28: 410_特定福祉用具販売
A29: 28兵庫県 | C29: 430_居宅介護支援
A30: 29奈良県 | C30: 460_介護予防支援
A31: 30和歌山県 | C31: 510_介護老人福祉施設
... A48: 47沖縄県 | C48: 241_介護予防短期入所療養介護（介護老人保健施設）
C49: 242_介護予防短期入所療養介護（介護療養型医療施設等）
C50: 243_介護予防短期入所療養介護（介護医療院）
C51: 340_介護予防居宅療養管理指導
C52: 350_介護予防認知症対応型通所介護
C53: 910_介護予防小規模多機能型居宅介護
C54: 920_介護予防特定施設入居者生活介護
C55: 930_介護予防認知症対応型共同生活介護
C56: 940_特定介護予防福祉用具販売
...
